BEGIN:VCALENDAR
VERSION:2.0
PRODID:-//Larzac.org - ECPv6.11.0.1//NONSGML v1.0//EN
CALSCALE:GREGORIAN
METHOD:PUBLISH
X-ORIGINAL-URL:https://larzac.org
X-WR-CALDESC:Évènements pour Larzac.org
REFRESH-INTERVAL;VALUE=DURATION:PT1H
X-Robots-Tag:noindex
X-PUBLISHED-TTL:PT1H
BEGIN:VTIMEZONE
TZID:Europe/Paris
BEGIN:DAYLIGHT
TZOFFSETFROM:+0100
TZOFFSETTO:+0200
TZNAME:CEST
DTSTART:20260329T010000
END:DAYLIGHT
BEGIN:STANDARD
TZOFFSETFROM:+0200
TZOFFSETTO:+0100
TZNAME:CET
DTSTART:20261025T010000
END:STANDARD
END:VTIMEZONE
BEGIN:VEVENT
DTSTART;TZID=Europe/Paris:20260421T203000
DTEND;TZID=Europe/Paris:20260421T203000
DTSTAMP:20260420T044813
CREATED:20260413T093953Z
LAST-MODIFIED:20260413T093953Z
UID:5295-1776803400-1776803400@larzac.org
SUMMARY:Conférence-débat : Se défendre sans faire la guerre ?
DESCRIPTION:Mardi 21 avril à 20 h 30 à la Maison de quartier (ancienne école de l’Hôpital du Larzac) \nGardarem lo Larzac invite à une conférence-débat : \nSE DÉFENDRE SANS FAIRE LA GUERRE ?\nLa voie de la défense civile non-violente \nA l’heure de la militarisation accélérée de l’Europe\, comment imaginer une sécurité collective non destructrice ? comment permettre aux sociétés civiles de se protéger et de résister sans armes face à des agressions extérieures ou internes ?\nLa défense civile non-violente est une autre conception de la défense. Elle conçoit la sécurité comme la capacité d’un peuple à préserver ses institutions\, sa cohésion et sa liberté par la résistance civile.\nPasser d’une sécurité fondée sur la puissance destructrice à une sécurité fondée sur la puissance sociale\, tel est l’enjeu de cette conférence-débat avec Alain Refalo. \nAlain Refalo est enseignant\, membre-fondateur du Centre de ressources sur la non-violence\, et rédacteur en chef de la revue Alternatives Non-Violentes\, auteur de plusieurs livres dont le dernier\, « L’alternative non-violente – Plaidoyer pour une radicalité constructive » vient de paraitre aux éditions L’Harmattan.
URL:https://larzac.org/info/conference-debat-se-defendre-sans-faire-la-guerre/
LOCATION:Maison de Quartier du Larzac\, Ancienne Ecole du Larzac\, Millau\, Aveyron\, 12100\, France
CATEGORIES:Conférence
END:VEVENT
BEGIN:VEVENT
DTSTART;TZID=Europe/Paris:20260425T103000
DTEND;TZID=Europe/Paris:20260425T103000
DTSTAMP:20260420T044813
CREATED:20260416T095853Z
LAST-MODIFIED:20260416T095853Z
UID:5316-1777113000-1777113000@larzac.org
SUMMARY:Mobilisation pour Gaza
DESCRIPTION:Le collectif Palestine Sud Aveyron appelle à se rassembler\nSamedi 25 avril à 10h30 sur la place de la Capelle\nCe sera le 132ème rassemblement \n\n  \n  \n  \n 
URL:https://larzac.org/info/mobilisation-pour-gaza-47/
LOCATION:Place de la Capelle\, Place de la Capelle\, Millau\, Aveyron\, 12100\, France
CATEGORIES:Mobilisation
ATTACH;FMTTYPE=image/jpeg:https://larzac.org/wp-content/uploads/2025/04/gazabandeau.jpg
END:VEVENT
BEGIN:VEVENT
DTSTART;TZID=Europe/Paris:20260425T193000
DTEND;TZID=Europe/Paris:20260425T193000
DTSTAMP:20260420T044813
CREATED:20260416T095232Z
LAST-MODIFIED:20260416T095232Z
UID:5302-1777145400-1777145400@larzac.org
SUMMARY:La Caravane des dix mots
DESCRIPTION:Dans le cadre de « La Caravane des 10 mots Occitanie 2026 »\, et pour la troisième année sur le territoire de la communauté de communes Larzac et Vallées\, dix-huit adolescents ont collaboré avec cinq artistes professionnels de la compagnie ôRageuse pour concevoir un spectacle pluridisciplinaire\, de l’écriture jusqu’à la scène.  \n« Les petits princes et les petites princesses » s’inspire librement de l’œuvre de Saint-Exupéry pour proposer une relecture contemporaine\, à la fois sensible et lucide\, du monde d’aujourd’hui. Cette création pluridisciplinaire mêle écriture\, théâtre\, musique et danse\, dans un univers résolument hip-hop. Les textes originaux se déploient sur scène à travers le jeu\, le flow\, le rythme et le mouvement.  \nAccompagnement à l’écriture et au jeu\, mise en scène Sarah Carlini\, musiques Guilhem Artieres et Martin Giraud\, chorégraphie Julie Allain\, costumes et décors Corinne Bodu. \nEntrée libre
URL:https://larzac.org/info/la-caravane-des-dix-mots/
LOCATION:Salle des fêtes St Jean du Bruel\, Esplanade\, Saint Jean du Bruel\, Aveyron\, 12230\, France
CATEGORIES:Spectacle
ATTACH;FMTTYPE=image/jpeg:https://larzac.org/wp-content/uploads/2026/04/20260425-caravane.jpg
ORGANIZER;CN="Cie %C3%B4Rageuse":MAILTO:coordination.orageuse@gmail.com
END:VEVENT
BEGIN:VEVENT
DTSTART;TZID=Europe/Paris:20260428T200000
DTEND;TZID=Europe/Paris:20260428T200000
DTSTAMP:20260420T044813
CREATED:20260416T095750Z
LAST-MODIFIED:20260416T095750Z
UID:5312-1777406400-1777406400@larzac.org
SUMMARY:Conférence-débat avec Ludivine Bantigny
DESCRIPTION:A l’initiative d’adhérent.es Attac du Sud-Aveyron\, une conférence-débat se tiendra jeudi 28 avril à 20h00 à la Maison de la Région (Place de la Capelle) à Millau \, avec Ludivine Bantigny\, historienne\, autrice de nombreux ouvrages sur l’extrême droite\, le mouvement ouvrier\, féministe … 
URL:https://larzac.org/info/conference-debat-avec-ludivine-bantigny/
LOCATION:Maison de la Région\, place de la Capelle\, Millau\, Aveyron\, 12100\, France
CATEGORIES:Conférence,Débat
END:VEVENT
BEGIN:VEVENT
DTSTART;VALUE=DATE:20260501
DTEND;VALUE=DATE:20260504
DTSTAMP:20260420T044813
CREATED:20260316T151550Z
LAST-MODIFIED:20260316T153204Z
UID:5228-1777593600-1777852799@larzac.org
SUMMARY:Stage - Orientation Buto
DESCRIPTION:stages à venir à la chaleurumaine/Mas raynal ( 12540).\nCela commence en avril jusqu’en juillet\, joie d’inviter et d’accueillir Chloé Saffores\,lilas Nagoya\, Catherine Contours \,Mathilde Fabre \, Amrit Douque\, Mathias Poisson\, Mélina Doudoux et Anne Expert Matières autour de pratiques liées au mouvement au somatique et à l’improvisation.\nToutes le infos tarifs et inscriptions et détails des propositions sur le site de la chaleurumaine.\nhttps://www.lachaleurumaine.com/en-ce-moment-calendrier\nil y aura aussi deux petites colo une en juillet et une en août et des rendez vous réguliers dans le jardin et dans la grange avec la chapelle café\nbienvenu.es à tuti\net fierté pour nos engagements!\nil reste de la place en août si vous êtes intéressées pour louer le lieu ou y proposer des rendez vous.\nN’ hésitez pas à me joindre par mail ou tel pour avoir des infos\n0768589472 lachaleurumaine@gmail.com
URL:https://larzac.org/info/stage-composition-en-temps-reel-2/
LOCATION:chaleurhumaine\, Mas Raynal\, cornus\, aveyron\, 12540\, France
ATTACH;FMTTYPE=image/jpeg:https://larzac.org/wp-content/uploads/2026/03/2026051-3-stage-cc.jpeg
ORGANIZER;CN="chaleurhumaine":MAILTO:lachaleurumaine@gmail.com
END:VEVENT
BEGIN:VEVENT
DTSTART;VALUE=DATE:20260509
DTEND;VALUE=DATE:20260511
DTSTAMP:20260420T044813
CREATED:20260302T085445Z
LAST-MODIFIED:20260302T085445Z
UID:5152-1778284800-1778457599@larzac.org
SUMMARY:Stage Vannerie Paysanne
DESCRIPTION:
URL:https://larzac.org/info/stage-vannerie-paysanne-2/
LOCATION:Ferme de l’Aubiguier\, L'Aubiguier\, Nant\, Aveyron\, 12230\, France
CATEGORIES:stage
ATTACH;FMTTYPE=image/jpeg:https://larzac.org/wp-content/uploads/2026/03/2026-stage-vannerie.jpg
END:VEVENT
BEGIN:VEVENT
DTSTART;TZID=Europe/Paris:20260509T180000
DTEND;TZID=Europe/Paris:20260509T180000
DTSTAMP:20260420T044813
CREATED:20260416T095356Z
LAST-MODIFIED:20260416T095356Z
UID:5308-1778349600-1778349600@larzac.org
SUMMARY:La Caravane des dix mots
DESCRIPTION:Dans le cadre de « La Caravane des 10 mots Occitanie 2026 »\, et pour la troisième année sur le territoire de la communauté de communes Larzac et Vallées\, dix-huit adolescents ont collaboré avec cinq artistes professionnels de la compagnie ôRageuse pour concevoir un spectacle pluridisciplinaire\, de l’écriture jusqu’à la scène.  \n« Les petits princes et les petites princesses » s’inspire librement de l’œuvre de Saint-Exupéry pour proposer une relecture contemporaine\, à la fois sensible et lucide\, du monde d’aujourd’hui. Cette création pluridisciplinaire mêle écriture\, théâtre\, musique et danse\, dans un univers résolument hip-hop. Les textes originaux se déploient sur scène à travers le jeu\, le flow\, le rythme et le mouvement.  \nAccompagnement à l’écriture et au jeu\, mise en scène Sarah Carlini\, musiques Guilhem Artieres et Martin Giraud\, chorégraphie Julie Allain\, costumes et décors Corinne Bodu. \nEntrée libre
URL:https://larzac.org/info/la-caravane-des-dix-mots-2/
LOCATION:Salle des fêtes Fondamente\, Fondamente\, Aveyron\, 12540\, France
CATEGORIES:Spectacle
ATTACH;FMTTYPE=image/jpeg:https://larzac.org/wp-content/uploads/2026/04/20260425-caravane.jpg
ORGANIZER;CN="Cie %C3%B4Rageuse":MAILTO:coordination.orageuse@gmail.com
END:VEVENT
BEGIN:VEVENT
DTSTART;VALUE=DATE:20260521
DTEND;VALUE=DATE:20260526
DTSTAMP:20260420T044813
CREATED:20260316T151823Z
LAST-MODIFIED:20260316T153137Z
UID:5233-1779321600-1779753599@larzac.org
SUMMARY:Stage - Danser avec l'outil hypnotique
DESCRIPTION:stages à venir à la chaleurumaine/Mas raynal ( 12540).\nCela commence en avril jusqu’en juillet\, joie d’inviter et d’accueillir Chloé Saffores\,lilas Nagoya\, Catherine Contours \,Mathilde Fabre \, Amrit Douque\, Mathias Poisson\, Mélina Doudoux et Anne Expert Matières autour de pratiques liées au mouvement au somatique et à l’improvisation.\nToutes le infos tarifs et inscriptions et détails des propositions sur le site de la chaleurumaine.\nhttps://www.lachaleurumaine.com/en-ce-moment-calendrier\nil y aura aussi deux petites colo une en juillet et une en août et des rendez vous réguliers dans le jardin et dans la grange avec la chapelle café\nbienvenu.es à tuti\net fierté pour nos engagements!\nil reste de la place en août si vous êtes intéressées pour louer le lieu ou y proposer des rendez vous.\nN’ hésitez pas à me joindre par mail ou tel pour avoir des infos\n0768589472 lachaleurumaine@gmail.com
URL:https://larzac.org/info/stage-danser-avec-loutil-hypnotique/
LOCATION:chaleurhumaine\, Mas Raynal\, cornus\, aveyron\, 12540\, France
ATTACH;FMTTYPE=image/jpeg:https://larzac.org/wp-content/uploads/2026/03/20260521-22-stage-cc.jpeg
ORGANIZER;CN="chaleurhumaine":MAILTO:lachaleurumaine@gmail.com
END:VEVENT
BEGIN:VEVENT
DTSTART;VALUE=DATE:20260530
DTEND;VALUE=DATE:20260601
DTSTAMP:20260420T044813
CREATED:20260316T151915Z
LAST-MODIFIED:20260316T153111Z
UID:5235-1780099200-1780271999@larzac.org
SUMMARY:Stage - Mouvement authentique
DESCRIPTION:stages à venir à la chaleurumaine/Mas raynal ( 12540).\nCela commence en avril jusqu’en juillet\, joie d’inviter et d’accueillir Chloé Saffores\,lilas Nagoya\, Catherine Contours \,Mathilde Fabre \, Amrit Douque\, Mathias Poisson\, Mélina Doudoux et Anne Expert Matières autour de pratiques liées au mouvement au somatique et à l’improvisation.\nToutes le infos tarifs et inscriptions et détails des propositions sur le site de la chaleurumaine.\nhttps://www.lachaleurumaine.com/en-ce-moment-calendrier\nil y aura aussi deux petites colo une en juillet et une en août et des rendez vous réguliers dans le jardin et dans la grange avec la chapelle café\nbienvenu.es à tuti\net fierté pour nos engagements!\nil reste de la place en août si vous êtes intéressées pour louer le lieu ou y proposer des rendez vous.\nN’ hésitez pas à me joindre par mail ou tel pour avoir des infos\n0768589472 lachaleurumaine@gmail.com
URL:https://larzac.org/info/stage-mouvement-authentique/
LOCATION:chaleurhumaine\, Mas Raynal\, cornus\, aveyron\, 12540\, France
ATTACH;FMTTYPE=image/jpeg:https://larzac.org/wp-content/uploads/2026/03/20260530-31-stage-cc.jpeg
ORGANIZER;CN="chaleurhumaine":MAILTO:lachaleurumaine@gmail.com
END:VEVENT
BEGIN:VEVENT
DTSTART;VALUE=DATE:20260613
DTEND;VALUE=DATE:20260615
DTSTAMP:20260420T044813
CREATED:20260316T152004Z
LAST-MODIFIED:20260316T153051Z
UID:5237-1781308800-1781481599@larzac.org
SUMMARY:Stage - L'arborescence du son
DESCRIPTION:stages à venir à la chaleurumaine/Mas raynal ( 12540).\nCela commence en avril jusqu’en juillet\, joie d’inviter et d’accueillir Chloé Saffores\,lilas Nagoya\, Catherine Contours \,Mathilde Fabre \, Amrit Douque\, Mathias Poisson\, Mélina Doudoux et Anne Expert Matières autour de pratiques liées au mouvement au somatique et à l’improvisation.\nToutes le infos tarifs et inscriptions et détails des propositions sur le site de la chaleurumaine.\nhttps://www.lachaleurumaine.com/en-ce-moment-calendrier\nil y aura aussi deux petites colo une en juillet et une en août et des rendez vous réguliers dans le jardin et dans la grange avec la chapelle café\nbienvenu.es à tuti\net fierté pour nos engagements!\nil reste de la place en août si vous êtes intéressées pour louer le lieu ou y proposer des rendez vous.\nN’ hésitez pas à me joindre par mail ou tel pour avoir des infos\n0768589472 lachaleurumaine@gmail.com
URL:https://larzac.org/info/stage-larborescence-du-son/
LOCATION:chaleurhumaine\, Mas Raynal\, cornus\, aveyron\, 12540\, France
ATTACH;FMTTYPE=image/jpeg:https://larzac.org/wp-content/uploads/2026/03/20260614-15-stage-cc.jpeg
ORGANIZER;CN="chaleurhumaine":MAILTO:lachaleurumaine@gmail.com
END:VEVENT
BEGIN:VEVENT
DTSTART;VALUE=DATE:20260709
DTEND;VALUE=DATE:20260712
DTSTAMP:20260420T044813
CREATED:20260316T151707Z
LAST-MODIFIED:20260316T153032Z
UID:5230-1783555200-1783814399@larzac.org
SUMMARY:Stage - Les Chemins Vifs
DESCRIPTION:stages à venir à la chaleurumaine/Mas raynal ( 12540).\nCela commence en avril jusqu’en juillet\, joie d’inviter et d’accueillir Chloé Saffores\,lilas Nagoya\, Catherine Contours \,Mathilde Fabre \, Amrit Douque\, Mathias Poisson\, Mélina Doudoux et Anne Expert Matières autour de pratiques liées au mouvement au somatique et à l’improvisation.\nToutes le infos tarifs et inscriptions et détails des propositions sur le site de la chaleurumaine.\nhttps://www.lachaleurumaine.com/en-ce-moment-calendrier\nil y aura aussi deux petites colo une en juillet et une en août et des rendez vous réguliers dans le jardin et dans la grange avec la chapelle café\nbienvenu.es à tuti\net fierté pour nos engagements!\nil reste de la place en août si vous êtes intéressées pour louer le lieu ou y proposer des rendez vous.\nN’ hésitez pas à me joindre par mail ou tel pour avoir des infos\n0768589472 lachaleurumaine@gmail.com
URL:https://larzac.org/info/stage-les-chemins-vifs/
LOCATION:chaleurhumaine\, Mas Raynal\, cornus\, aveyron\, 12540\, France
ATTACH;FMTTYPE=image/jpeg:https://larzac.org/wp-content/uploads/2026/03/2026079-11-stage-cc.jpeg
ORGANIZER;CN="chaleurhumaine":MAILTO:lachaleurumaine@gmail.com
END:VEVENT
BEGIN:VEVENT
DTSTART;VALUE=DATE:20260713
DTEND;VALUE=DATE:20260716
DTSTAMP:20260420T044813
CREATED:20260316T152221Z
LAST-MODIFIED:20260316T153001Z
UID:5239-1783900800-1784159999@larzac.org
SUMMARY:Stage - Danse et Yoga
DESCRIPTION:stages à venir à la chaleurumaine/Mas raynal ( 12540).\nCela commence en avril jusqu’en juillet\, joie d’inviter et d’accueillir Chloé Saffores\,lilas Nagoya\, Catherine Contours \,Mathilde Fabre \, Amrit Douque\, Mathias Poisson\, Mélina Doudoux et Anne Expert Matières autour de pratiques liées au mouvement au somatique et à l’improvisation.\nToutes le infos tarifs et inscriptions et détails des propositions sur le site de la chaleurumaine.\nhttps://www.lachaleurumaine.com/en-ce-moment-calendrier\nil y aura aussi deux petites colo une en juillet et une en août et des rendez vous réguliers dans le jardin et dans la grange avec la chapelle café\nbienvenu.es à tuti\net fierté pour nos engagements!\nil reste de la place en août si vous êtes intéressées pour louer le lieu ou y proposer des rendez vous.\nN’ hésitez pas à me joindre par mail ou tel pour avoir des infos\n0768589472 lachaleurumaine@gmail.com
URL:https://larzac.org/info/stage-danse-et-yoga/
LOCATION:chaleurhumaine\, Mas Raynal\, cornus\, aveyron\, 12540\, France
ATTACH;FMTTYPE=image/jpeg:https://larzac.org/wp-content/uploads/2026/03/20260713-15-stageyogadanse.jpg
ORGANIZER;CN="chaleurhumaine":MAILTO:lachaleurumaine@gmail.com
END:VEVENT
BEGIN:VEVENT
DTSTART;VALUE=DATE:20260719
DTEND;VALUE=DATE:20260723
DTSTAMP:20260420T044813
CREATED:20260316T152312Z
LAST-MODIFIED:20260316T152720Z
UID:5241-1784419200-1784764799@larzac.org
SUMMARY:Stage - Body-Mind Centering
DESCRIPTION:stages à venir à la chaleurumaine/Mas raynal ( 12540).\nCela commence en avril jusqu’en juillet\, joie d’inviter et d’accueillir Chloé Saffores\,lilas Nagoya\, Catherine Contours \,Mathilde Fabre \, Amrit Douque\, Mathias Poisson\, Mélina Doudoux et Anne Expert Matières autour de pratiques liées au mouvement au somatique et à l’improvisation.\nToutes le infos tarifs et inscriptions et détails des propositions sur le site de la chaleurumaine.\nhttps://www.lachaleurumaine.com/en-ce-moment-calendrier\nil y aura aussi deux petites colo une en juillet et une en août et des rendez vous réguliers dans le jardin et dans la grange avec la chapelle café\nbienvenu.es à tuti\net fierté pour nos engagements!\nil reste de la place en août si vous êtes intéressées pour louer le lieu ou y proposer des rendez vous.\nN’ hésitez pas à me joindre par mail ou tel pour avoir des infos\n0768589472 lachaleurumaine@gmail.com
URL:https://larzac.org/info/stage-body-mind-centering/
LOCATION:chaleurhumaine\, Mas Raynal\, cornus\, aveyron\, 12540\, France
ATTACH;FMTTYPE=image/jpeg:https://larzac.org/wp-content/uploads/2026/03/20260719-22-stage-cc.jpeg
ORGANIZER;CN="chaleurhumaine":MAILTO:lachaleurumaine@gmail.com
END:VEVENT
BEGIN:VEVENT
DTSTART;VALUE=DATE:20261010
DTEND;VALUE=DATE:20261012
DTSTAMP:20260420T044813
CREATED:20260302T085502Z
LAST-MODIFIED:20260302T085502Z
UID:5156-1791590400-1791763199@larzac.org
SUMMARY:Stage Vannerie Paysanne
DESCRIPTION:
URL:https://larzac.org/info/stage-vannerie-paysanne-3/
LOCATION:Ferme de l’Aubiguier\, L'Aubiguier\, Nant\, Aveyron\, 12230\, France
CATEGORIES:stage
ATTACH;FMTTYPE=image/jpeg:https://larzac.org/wp-content/uploads/2026/03/2026-stage-vannerie.jpg
END:VEVENT
BEGIN:VEVENT
DTSTART;VALUE=DATE:20261107
DTEND;VALUE=DATE:20261109
DTSTAMP:20260420T044813
CREATED:20260302T085518Z
LAST-MODIFIED:20260302T085518Z
UID:5158-1794009600-1794182399@larzac.org
SUMMARY:Stage Vannerie Paysanne
DESCRIPTION:
URL:https://larzac.org/info/stage-vannerie-paysanne-4/
LOCATION:Ferme de l’Aubiguier\, L'Aubiguier\, Nant\, Aveyron\, 12230\, France
CATEGORIES:stage
ATTACH;FMTTYPE=image/jpeg:https://larzac.org/wp-content/uploads/2026/03/2026-stage-vannerie.jpg
END:VEVENT
END:VCALENDAR