BEGIN:VCALENDAR
VERSION:2.0
PRODID:-//Larzac.org - ECPv6.11.0.1//NONSGML v1.0//EN
CALSCALE:GREGORIAN
METHOD:PUBLISH
X-ORIGINAL-URL:https://larzac.org
X-WR-CALDESC:Évènements pour Larzac.org
REFRESH-INTERVAL;VALUE=DURATION:PT1H
X-Robots-Tag:noindex
X-PUBLISHED-TTL:PT1H
BEGIN:VTIMEZONE
TZID:Europe/Paris
BEGIN:DAYLIGHT
TZOFFSETFROM:+0100
TZOFFSETTO:+0200
TZNAME:CEST
DTSTART:20260329T010000
END:DAYLIGHT
BEGIN:STANDARD
TZOFFSETFROM:+0200
TZOFFSETTO:+0100
TZNAME:CET
DTSTART:20261025T010000
END:STANDARD
END:VTIMEZONE
BEGIN:VEVENT
DTSTART;TZID=Europe/Paris:20260516T180000
DTEND;TZID=Europe/Paris:20260516T180000
DTSTAMP:20260422T150457
CREATED:20260422T093343Z
LAST-MODIFIED:20260422T093343Z
UID:5352-1778954400-1778954400@larzac.org
SUMMARY:Une nuit au musée : Gantières et Ganteries familiales
DESCRIPTION:Une Nuit au Musée : « Gantières et Ganteries familiales » \nEn écho à la Nuit Européenne des Musées et à la candidature de la ville de Millau au classement au patrimoine culturel immatériel des savoir-faire liés à la ganterie\, La Chapelle des Pénitents propose de faire acte de mémoire sur une ganterie familiale à Nant et sur les gantières nantaises. \nà 18h : une exposition muséographique : objets\, témoignages recueillis et répertoriés par le Cercle Généalogique de l’Aveyron et témoignages recueillis aujourd’hui auprès de quelques nantaises. \nà 21h : une performance théâtralisée « Mémoire dans la peau-Emma Calvé au soutien des gantières » interprétée par Justine Wojtyniak\, création en résidence de la Cie Retour d’Ulysse présentée au Musée de Millau à l’occasion des Journées du Patrimoine 2025 .. \nUne fable que permet le théâtre pour mettre en lumière la parole des femmes gantières syndicalisées\, leur rôle dans les grèves de 1911 et 1935 ainsi que les engagements sociaux d’Emma Calvé auprès des gantières et des grévistes\, des jeunes filles qu’elle accueille au château de Cabrières pour les aider et encourager leur émancipation… \nUne double œuvre de mémoire et de transmission avec la complicité du musée de Millau et la notoriété de la Cie Retour d’Ulysse : un double gage de qualité pour le public. \nRenseignements et réservations Nant Nature Patrimoine 06 10 19 38 02\nwww.nant.fr // www.cieretourdulysse.com
URL:https://larzac.org/info/une-nuit-au-musee-gantieres-et-ganteries-familiales/
LOCATION:Chapelle des Pénitents\, Nant\, Aveyron\, 12230\, France
CATEGORIES:exposition,Spectacle,Théâtre
ATTACH;FMTTYPE=image/jpeg:https://larzac.org/wp-content/uploads/2026/04/20260516-gantieres.jpg
END:VEVENT
END:VCALENDAR