BEGIN:VCALENDAR
VERSION:2.0
PRODID:-//Larzac.org - ECPv6.11.0.1//NONSGML v1.0//EN
CALSCALE:GREGORIAN
METHOD:PUBLISH
X-ORIGINAL-URL:https://larzac.org
X-WR-CALDESC:Évènements pour Larzac.org
REFRESH-INTERVAL;VALUE=DURATION:PT1H
X-Robots-Tag:noindex
X-PUBLISHED-TTL:PT1H
BEGIN:VTIMEZONE
TZID:Europe/Paris
BEGIN:DAYLIGHT
TZOFFSETFROM:+0100
TZOFFSETTO:+0200
TZNAME:CEST
DTSTART:20250330T010000
END:DAYLIGHT
BEGIN:STANDARD
TZOFFSETFROM:+0200
TZOFFSETTO:+0100
TZNAME:CET
DTSTART:20251026T010000
END:STANDARD
END:VTIMEZONE
BEGIN:VEVENT
DTSTART;TZID=Europe/Paris:20251129T190000
DTEND;TZID=Europe/Paris:20251129T190000
DTSTAMP:20260422T204602
CREATED:20251121T114101Z
LAST-MODIFIED:20251126T084954Z
UID:4941-1764442800-1764442800@larzac.org
SUMMARY:Traverser la Palestine : la chance de ma vie
DESCRIPTION:Lecture vernissage \nD’après l’histoire vraie d’Ahmed Tobasi\, comédien du Théâtre de la Liberté de Jénine. \nTexte de Hassan Abdulrazzak\, version française de Ronan Mancec\,\nvient de paraître aux éditions l’Espace d’un instant\,\ndans la collection Sens Interdits. \nAvec Dominique Dolmieu et Vincent Dubus\,\nassistante Mélanie Kessels. \nLa Chance de ma vie retrace le parcours d’Ahmed Tobasi\, né dans le camp de réfugiés de Jénine en Cisjordanie juste avant la première intifada. Il est témoin pendant son enfance des répercussions violentes de l’occupation : la seconde intifada\, les raids militaires\, l’invasion et la destruction partielle du camp. Engagé dans la lutte armée\, il devient prisonnier politique à dix-sept ans. Il est libéré après quatre ans d’incarcération et s’exile en Norvège\, où il se forme en tant qu’acteur et metteur en scène. Son engagement résistant prend alors une nouvelle forme\, celle d’un théâtre politique qu’il développe à son retour au camp de Jénine en 2013. L’écrivain anglo-irakien Hassan Abdulrazzak s’est saisi de cette histoire en mêlant le réel au fantastique et le comique au tragique pour restituer la complexité d’un voyage aux accents doux-amers. Il nous livre le parcours d’un homme en quête de sa définition de la liberté avec l’histoire de la résistance palestinienne autant armée que culturelle et artistique. \n\nLa Fabrick : 9 rue de la Saunerie à Millau // Samedi 29 novembre à 19h\nLa Mégisserie : quai de la Mégisserie à Lodève // Dimanche 30 novembre à 17h \nEntrée libre dans la limite des places disponibles. Sortie au chapeau.\nInformations 09 75 47 27 23 \n\nDurée : env.1h / A partir de 13 ans / Paf : Participation libre \nPas de réservation. Ouverture des portes 30 minutes avant le début du spectacle.  \nPossibilité d’apporter un petit quelque chose à grignoter pour un repas partagé à l’issu de la soirée et prolonger les échanges avec convivialité ! / Théâtre de La Fabrick 9 rue de la Saunerie à Milau TEL 05 65 61 08 96 / http://www.creation-ephemere.com/creation-ephemere–fabrick.html
URL:https://larzac.org/info/traverser-la-palestine-la-chance-de-ma-vie/
LOCATION:La Fabrik\, 9 rue de la Saunerie\, Millau\, Aveyron\, 12100\, France
CATEGORIES:Spectacle,Théâtre
ATTACH;FMTTYPE=image/jpeg:https://larzac.org/wp-content/uploads/2025/11/202512traversee.jpg
END:VEVENT
END:VCALENDAR