BEGIN:VCALENDAR
VERSION:2.0
PRODID:-//Larzac.org - ECPv6.11.0.1//NONSGML v1.0//EN
CALSCALE:GREGORIAN
METHOD:PUBLISH
X-WR-CALNAME:Larzac.org
X-ORIGINAL-URL:https://larzac.org
X-WR-CALDESC:Évènements pour Larzac.org
REFRESH-INTERVAL;VALUE=DURATION:PT1H
X-Robots-Tag:noindex
X-PUBLISHED-TTL:PT1H
BEGIN:VTIMEZONE
TZID:Europe/Paris
BEGIN:DAYLIGHT
TZOFFSETFROM:+0100
TZOFFSETTO:+0200
TZNAME:CEST
DTSTART:20250330T010000
END:DAYLIGHT
BEGIN:STANDARD
TZOFFSETFROM:+0200
TZOFFSETTO:+0100
TZNAME:CET
DTSTART:20251026T010000
END:STANDARD
END:VTIMEZONE
BEGIN:VEVENT
DTSTART;TZID=Europe/Paris:20251114T200000
DTEND;TZID=Europe/Paris:20251114T200000
DTSTAMP:20260422T151413
CREATED:20251028T083051Z
LAST-MODIFIED:20251104T162051Z
UID:4810-1763150400-1763150400@larzac.org
SUMMARY:L'homme qui plantait des arbres
DESCRIPTION:NANT en TRANSITION -Causses et Vallées et la Compagnie WAALDE présentent en partenariat avec les associations GAEC des Pétassous\, Métamorphoses et Nant Nature Patrimoine \n« L’homme qui plantait des arbres » \nde Jean Giono\nLe Vendredi 14 Novembre 2025 à 20h à la Salle Gambajio à La Blaquière \n« Alors qu’il arpente une région désolée\, balayée par le vent et abandonnée des hommes\, un randonneur fait la rencontre d’Elzéard Bouffier\, berger et vieillard solitaire qui remplit son quotidien d’une action simple et généreuse : planter des arbres… et continue imperturbablement sa tâche ». \nL’homme qui plantait des arbres\, de Jean Giono\, nous parle de ces petits gestes qui changent tout\, de ces hommes colibris qui\, dans la mesure de leurs moyens\, minimalement mais indéniablement\, participent au bon fonctionnement du « Tout Monde ». \nSpectacle scénique et musical interprété par la Cie Waaldé. \nCe spectacle sera suivi d’un débat\, espace d’échange et de réflexion et d’un moment de convivialité. \n\nOuverture des portes à 19h15\nTarifs : adultes : 10 €\nCoréalisé par la Cie Waaldé et Nant en transition.\nBuvette sur place\nRéservations très recommandées au 06.19.21.35.29
URL:https://larzac.org/info/4810/
LOCATION:Salle Gambajio\, La Blaquière\, Millau\, 12100\, France
CATEGORIES:Spectacle
ATTACH;FMTTYPE=image/jpeg:https://larzac.org/wp-content/uploads/2025/10/20251114giono.jpeg
END:VEVENT
BEGIN:VEVENT
DTSTART;TZID=Europe/Paris:20251115T160000
DTEND;TZID=Europe/Paris:20251115T160000
DTSTAMP:20260422T151413
CREATED:20251028T083615Z
LAST-MODIFIED:20251110T095008Z
UID:4815-1763222400-1763222400@larzac.org
SUMMARY:L'homme qui plantait des arbres
DESCRIPTION:NANT en TRANSITION -Causses et Vallées et la Compagnie WAALDE présentent en partenariat avec les associations GAEC des Pétassous\, Métamorphoses et Nant Nature Patrimoine \nle Samedi 15 Novembre 2025 à 16h à la Salle des Fêtes de Saint Jean du Bruel .\n« Les Allumées du Vocal » une chorale féminine\, féministe et humoriste à 16h.\nLe spectacle « L’homme qui plantait des arbres » à 17h \n« Alors qu’il arpente une région désolée\, balayée par le vent et abandonnée des hommes\, un randonneur fait la rencontre d’Elzéard Bouffier\, berger et vieillard solitaire qui remplit son quotidien d’une action simple et généreuse : planter des arbres… et continue imperturbablement sa tâche ». \nL’homme qui plantait des arbres\, de Jean Giono\, nous parle de ces petits gestes qui changent tout\, de ces hommes colibris qui\, dans la mesure de leurs moyens\, minimalement mais indéniablement\, participent au bon fonctionnement du « Tout Monde ». \nSpectacle scénique et musical interprété par la Cie Waaldé\, jeune public /familles et adultes. \nCe spectacle sera suivi d’un débat\, espace d’échange et de réflexion et d’un moment de convivialité. \nTarifs : adultes : 10 €\, enfants : 5 €\nCoréalisé par la Cie Waaldé et Nant en Transition. \n 
URL:https://larzac.org/info/lhomme-qui-plantait-des-arbres/
LOCATION:Salle des fêtes St Jean du Bruel\, Esplanade\, Saint Jean du Bruel\, Aveyron\, 12230\, France
CATEGORIES:Spectacle
ATTACH;FMTTYPE=image/jpeg:https://larzac.org/wp-content/uploads/2025/10/20251115novembrevers.jpeg
END:VEVENT
BEGIN:VEVENT
DTSTART;TZID=Europe/Paris:20251115T183000
DTEND;TZID=Europe/Paris:20251115T183000
DTSTAMP:20260422T151413
CREATED:20251104T100226Z
LAST-MODIFIED:20251105T165418Z
UID:4843-1763231400-1763231400@larzac.org
SUMMARY:Conférence gesticulée
DESCRIPTION:Le collectif Palestine invite André ROSEVEGUE\,  un des porte-parole de l’Union Juive Française pour la Paix à Millau. Il est l’auteur et l’acteur\, à plus de 80 ans\, d’une conférence gesticulée sur le thème de l’anti-sionisme et antisemitisme à partir de sa vie.\nElle aura lieu au théâtre de la Fabrik à 18h30\, le samedi 15 novembre.
URL:https://larzac.org/info/conference-gesticulee/
LOCATION:La Fabrik\, 9 rue de la Saunerie\, Millau\, Aveyron\, 12100\, France
CATEGORIES:Conférence,Spectacle
ATTACH;FMTTYPE=image/jpeg:https://larzac.org/wp-content/uploads/2025/11/20251115gaza.jpg
END:VEVENT
BEGIN:VEVENT
DTSTART;TZID=Europe/Paris:20251116T180000
DTEND;TZID=Europe/Paris:20251116T180000
DTSTAMP:20260422T151413
CREATED:20251110T093010Z
LAST-MODIFIED:20251110T093208Z
UID:4890-1763316000-1763316000@larzac.org
SUMMARY:Elles vivent ici
DESCRIPTION:Dans le cadre du mois du documentaire\, Elles Vivent Ici présente des portraits de femmes\, dont trois habitent ou ont habité sur le Larzac : Chantal Alvergnas\, Sarah Carlini et Mathilde Poulanges…
URL:https://larzac.org/info/elles-vivent-ici/
LOCATION:Cinémas de Millau\, rue de la pépinière\, Millau\, Aveyron\, 12100\, France
CATEGORIES:Ciné
ATTACH;FMTTYPE=image/jpeg:https://larzac.org/wp-content/uploads/2025/11/202511cine.jpg
END:VEVENT
BEGIN:VEVENT
DTSTART;TZID=Europe/Paris:20251120T200000
DTEND;TZID=Europe/Paris:20251120T200000
DTSTAMP:20260422T151413
CREATED:20251026T142634Z
LAST-MODIFIED:20251118T100518Z
UID:4785-1763668800-1763668800@larzac.org
SUMMARY:Bateau Pirate
DESCRIPTION:Bateau Pirate\nInsistance fantômatique\nde et avec\nMario Christophe Julian  \nle jeudi 20 novembre à 20h \n\n\n\n\n\n\n\n\n\n\n\n\n\n\n\n\n\n\n\n\n\n\n\n\n\n\n\n\n\n\n\n\n\n\n\n\n\n\n\n\n\n\n\n\n\n\n\n\n\nBateau Pirate est un voyage sonore et narratif entremêlant matière organique et électronique\, l’ensemble conjointement animé par un récit poétique\, une voix lyrique\, une trompette et un matériau numérique. \nAu cœur de l’univers\, là où le temps et l’espace se confondent dans un éternel silence\, un vieux bateau vogue à la dérive.\nCe n’est pas un navire ordinaire\, il semble habité par l’immensité\, porté par un vent stellaire.\nSa mission\, retrouver l’âme d’un enfant\, celui qui avait autrefois dessiné ce bateau et qui sans le savoir\, en traçant chaque ligne\, lui a offert une existence immortelle.\nBateau Pirate\, désormais orphelin et condamné à l’éternité\, devient le guide d’une mémoire\, celle de l’enfant défunt\, assurant ainsi un pont entre deux mondes. \nIl y a de ces spectacles qui ne sont vraiment pas uns… Plutôt de rituels\, de convocations\, des invitations à un voyage vers l’invisible. Il y a de moments dans la vie où l’artiste a besoin d’exorciser\, de transgresser\, de se relier à quelque chose dans l’univers pour\, tout simplement\, ne pas devenir fou\, pour donner un sens à des événements de la vie qui nous dépassent. \nBateau Pirate ________Insistance fantomatique pour parler encore avec\, pour parler au-delà\, Non\, non pas faire son deuil mais créer un moment où les frontières des mondes implosent\, où parler avec le mort\, ce cher disparu reste possible. Un voyage musical interstellaire pour retrouver l’âme de l’enfant trop tôt disparu. L’ART c’est aussi cela et ça sauve le monde. \nLe Mas Razal sera ravi de partager avec vous ce moment unique\, ce CONCERT SPECTACLE qui mélange l’électronique\, le récit poétique\, la voix lyrique à la trompette de l’extraordinaire musicien Mario Vino Christophe Julian. \n\n\n\n\n\n\n\n\n\n\n\n\n\n\n\n\n\n\n\n\n\n\n\n\n\n\n\n\n\n\n\n\n\nL’ACCUEIL \n\n\nOuverture des portes à 19h\nUne soupe sera offerte\, emmenez ce que vous souhaitez partagez… Une bio-buvette payante sera à votre disposition.\nRéservation préférable\nConfirmez-nous votre venue en cliquant sur le bouton jaune ci-dessous et en remplissant le mail qui s’affiche\, ou par texto au 06 14 40 24 83 ou par mail masrazaldularzac@gmail.com\nP.A.F participation aux frais  : 10 euros  + 5 euros l’adhésion annuelle au Mas Razal si vous n’êtes pas déjà adhérent.e\nPensez à covoiturer :  point de rencontre devant la Mairie de Nant à 18h30
URL:https://larzac.org/info/bateau-pirate/
LOCATION:Mas Razal\, Sur la route entre Montredon et Pierrefiche\, 4 minutes de route après Montredon\, un sapin sur votre droite avec boîte aux lettres et petit panneau. Prenez le chemin qui monte et cahote\, tout droit jusqu'à la petite descente vers les caravanes. Vous y êtes :-)\, LA ROQUE STE MARGUERITE\, Aveyron\, 12100\, France
CATEGORIES:Spectacle
ATTACH;FMTTYPE=image/png:https://larzac.org/wp-content/uploads/2025/10/20251120bateau-pirate.png
END:VEVENT
BEGIN:VEVENT
DTSTART;TZID=Europe/Paris:20251127T190000
DTEND;TZID=Europe/Paris:20251127T190000
DTSTAMP:20260422T151413
CREATED:20251110T090921Z
LAST-MODIFIED:20251110T091118Z
UID:4861-1764270000-1764270000@larzac.org
SUMMARY:Spectacle chez l'habitant.e
DESCRIPTION:
URL:https://larzac.org/info/spectacle-chez-lhabitant-e/
LOCATION:Chez Corinne Bodu\, Millau\, Aveyron\, 12100\, France
CATEGORIES:Spectacle
ATTACH;FMTTYPE=image/jpeg:https://larzac.org/wp-content/uploads/2025/11/2025lepluspetitespace-possible.jpg
ORGANIZER;CN="Cie le plus petit espace possible":MAILTO:contact@lepluspetitespacepossible.com
END:VEVENT
BEGIN:VEVENT
DTSTART;TZID=Europe/Paris:20251128T190000
DTEND;TZID=Europe/Paris:20251128T190000
DTSTAMP:20260422T151413
CREATED:20251110T091236Z
LAST-MODIFIED:20251110T091236Z
UID:4875-1764356400-1764356400@larzac.org
SUMMARY:Spectacle chez l'habitant.e
DESCRIPTION:
URL:https://larzac.org/info/spectacle-chez-lhabitant-e-2/
LOCATION:Chez Cindy et Kevin\, rue du Barry\, L'Hospitalet du Larzac\, Aveyron\, 12230\, France
CATEGORIES:Spectacle
ATTACH;FMTTYPE=image/jpeg:https://larzac.org/wp-content/uploads/2025/11/2025lepluspetitespace-possible.jpg
ORGANIZER;CN="Cie le plus petit espace possible":MAILTO:contact@lepluspetitespacepossible.com
END:VEVENT
BEGIN:VEVENT
DTSTART;TZID=Europe/Paris:20251129T190000
DTEND;TZID=Europe/Paris:20251129T190000
DTSTAMP:20260422T151413
CREATED:20251110T091342Z
LAST-MODIFIED:20251110T091342Z
UID:4878-1764442800-1764442800@larzac.org
SUMMARY:Spectacle chez l'habitant.e
DESCRIPTION:
URL:https://larzac.org/info/spectacle-chez-lhabitant-e-3/
LOCATION:Chez Anne et Laurent\, Pierrefiche du Larzac\, La Roque Sainte Marguerite\, Aveyron\, 12100\, France
CATEGORIES:Spectacle
ATTACH;FMTTYPE=image/jpeg:https://larzac.org/wp-content/uploads/2025/11/2025lepluspetitespace-possible.jpg
ORGANIZER;CN="Cie le plus petit espace possible":MAILTO:contact@lepluspetitespacepossible.com
END:VEVENT
BEGIN:VEVENT
DTSTART;TZID=Europe/Paris:20251129T190000
DTEND;TZID=Europe/Paris:20251129T190000
DTSTAMP:20260422T151413
CREATED:20251121T114101Z
LAST-MODIFIED:20251126T084954Z
UID:4941-1764442800-1764442800@larzac.org
SUMMARY:Traverser la Palestine : la chance de ma vie
DESCRIPTION:Lecture vernissage \nD’après l’histoire vraie d’Ahmed Tobasi\, comédien du Théâtre de la Liberté de Jénine. \nTexte de Hassan Abdulrazzak\, version française de Ronan Mancec\,\nvient de paraître aux éditions l’Espace d’un instant\,\ndans la collection Sens Interdits. \nAvec Dominique Dolmieu et Vincent Dubus\,\nassistante Mélanie Kessels. \nLa Chance de ma vie retrace le parcours d’Ahmed Tobasi\, né dans le camp de réfugiés de Jénine en Cisjordanie juste avant la première intifada. Il est témoin pendant son enfance des répercussions violentes de l’occupation : la seconde intifada\, les raids militaires\, l’invasion et la destruction partielle du camp. Engagé dans la lutte armée\, il devient prisonnier politique à dix-sept ans. Il est libéré après quatre ans d’incarcération et s’exile en Norvège\, où il se forme en tant qu’acteur et metteur en scène. Son engagement résistant prend alors une nouvelle forme\, celle d’un théâtre politique qu’il développe à son retour au camp de Jénine en 2013. L’écrivain anglo-irakien Hassan Abdulrazzak s’est saisi de cette histoire en mêlant le réel au fantastique et le comique au tragique pour restituer la complexité d’un voyage aux accents doux-amers. Il nous livre le parcours d’un homme en quête de sa définition de la liberté avec l’histoire de la résistance palestinienne autant armée que culturelle et artistique. \n\nLa Fabrick : 9 rue de la Saunerie à Millau // Samedi 29 novembre à 19h\nLa Mégisserie : quai de la Mégisserie à Lodève // Dimanche 30 novembre à 17h \nEntrée libre dans la limite des places disponibles. Sortie au chapeau.\nInformations 09 75 47 27 23 \n\nDurée : env.1h / A partir de 13 ans / Paf : Participation libre \nPas de réservation. Ouverture des portes 30 minutes avant le début du spectacle.  \nPossibilité d’apporter un petit quelque chose à grignoter pour un repas partagé à l’issu de la soirée et prolonger les échanges avec convivialité ! / Théâtre de La Fabrick 9 rue de la Saunerie à Milau TEL 05 65 61 08 96 / http://www.creation-ephemere.com/creation-ephemere–fabrick.html
URL:https://larzac.org/info/traverser-la-palestine-la-chance-de-ma-vie/
LOCATION:La Fabrik\, 9 rue de la Saunerie\, Millau\, Aveyron\, 12100\, France
CATEGORIES:Spectacle,Théâtre
ATTACH;FMTTYPE=image/jpeg:https://larzac.org/wp-content/uploads/2025/11/202512traversee.jpg
END:VEVENT
BEGIN:VEVENT
DTSTART;TZID=Europe/Paris:20251130T180000
DTEND;TZID=Europe/Paris:20251130T180000
DTSTAMP:20260422T151413
CREATED:20251110T091445Z
LAST-MODIFIED:20251110T091445Z
UID:4881-1764525600-1764525600@larzac.org
SUMMARY:Spectacle chez l'habitant.e
DESCRIPTION:
URL:https://larzac.org/info/spectacle-chez-lhabitant-e-4/
LOCATION:Chez Monique et Christian\, Saint Sauveur\, Nant\, Aveyron\, 12230\, France
CATEGORIES:Spectacle
ATTACH;FMTTYPE=image/jpeg:https://larzac.org/wp-content/uploads/2025/11/2025lepluspetitespace-possible.jpg
ORGANIZER;CN="Cie le plus petit espace possible":MAILTO:contact@lepluspetitespacepossible.com
END:VEVENT
END:VCALENDAR