BEGIN:VCALENDAR
VERSION:2.0
PRODID:-//Larzac.org - ECPv6.11.0.1//NONSGML v1.0//EN
CALSCALE:GREGORIAN
METHOD:PUBLISH
X-ORIGINAL-URL:https://larzac.org
X-WR-CALDESC:Évènements pour Larzac.org
REFRESH-INTERVAL;VALUE=DURATION:PT1H
X-Robots-Tag:noindex
X-PUBLISHED-TTL:PT1H
BEGIN:VTIMEZONE
TZID:Europe/Paris
BEGIN:DAYLIGHT
TZOFFSETFROM:+0100
TZOFFSETTO:+0200
TZNAME:CEST
DTSTART:20250330T010000
END:DAYLIGHT
BEGIN:STANDARD
TZOFFSETFROM:+0200
TZOFFSETTO:+0100
TZNAME:CET
DTSTART:20251026T010000
END:STANDARD
END:VTIMEZONE
BEGIN:VEVENT
DTSTART;TZID=Europe/Paris:20250809T183000
DTEND;TZID=Europe/Paris:20250809T183000
DTSTAMP:20260422T194628
CREATED:20250729T143913Z
LAST-MODIFIED:20250729T143913Z
UID:4455-1754764200-1754764200@larzac.org
SUMMARY:Poèmes contés de Gaston Couté
DESCRIPTION:
URL:https://larzac.org/info/poemes-contes-de-gaston-coute/
LOCATION:La Combe\, La Combe\, Sauclières\, Aveyron\, 12230\, France
CATEGORIES:musique,Spectacle
ATTACH;FMTTYPE=image/jpeg:https://larzac.org/wp-content/uploads/2025/07/20250809gaston-coute.jpg
END:VEVENT
BEGIN:VEVENT
DTSTART;TZID=Europe/Paris:20250812T203000
DTEND;TZID=Europe/Paris:20250812T203000
DTSTAMP:20260422T194628
CREATED:20250811T090156Z
LAST-MODIFIED:20250811T090252Z
UID:4514-1755030600-1755030600@larzac.org
SUMMARY:Un film\, un jardin
DESCRIPTION:Edition 2025\nFestival « Un film\, un jardin » : Un grain de folie \nChaque année au mois d’août\, du 03 au 13\, Rétro Movies propose un rêve sous les étoiles avec le cinéma de patrimoine\, des projections à l’ancienne\, des pépites du cinéma d’autrefois. Voici les dernières dates du programme de cette année\, dans le jardin des Vernèdes chez « Rétro Movies » : \nLes 9 et 10 août : « Les casse-pieds » de Jean Dréville de 1948\nLes 12 et 13 août : « Un grain de folie » de Norman Panama et Melvin Frank de 1954 \nPar ailleurs\, en 2024\, Rétro Movies a ouvert son « petit musée du cinéma et sa galerie d’Art ». Une véritable découverte de pièces rares et uniques dont du matériel de grand chef opérateur du cinéma français. \nAvis aux cinéphiles ! Entrez dans ce petit cabinet des merveilles ! Vous y découvrirez divers projecteurs d’une autre époque\, le matériel technique pour « faire » le cinéma datant des années 1800\, comme une lanterne magique\, la panoplie des stéréoscopes\, datant de 1850 pour le premier et de 1905 pour le dernier\, des bobines de films mais aussi les premières images du pré-cinéma. Avec un peu de chance\, vous verrez Olivier Salfati\, fondateur de Rétro Movies avec Christiane Milan sa compagne\, réparer ou rénover les pellicules ! \n \nUne petite nouveauté 2025 : Le petit musée du cinéma et sa galerie d’Art s’agrandit pour un espace plus chaleureux et son patio sous lequel Rétro Movies propose des projections privées en famille. Amenez vos films familiaux (super 8mm par exemple) : Olivier se charge de vous les projeter sur grand écran. Une petite bibliothèque sur le cinéma a été installée dans ce musée du patrimoine cinématographique afin de consulter les curiosités de l’histoire du cinéma sur place. Des œuvres d’Olivier et Christiane\, en rapport avec le cinéma pour la plupart\, y sont exposées car nos deux protagonistes sont aussi artistes peintres ! \nTous les jours de juin à septembre\n10h00-12h00/ 15h00-18h00 (Sur rendez-vous le reste de l’année)\nRens.et réservation pour le festival : 06.87.05.29.55 ou Galerie-Atelier 4 rue du Faubourg Haut\, Nant\nAdhésion annuelle : 10€\nParticipation aux frais : 5€\nGratuit pour les – de 12 ans\nOuverture des portes à 20h30 avec buvette participative (bières du Larzac\, jus de fruits du « Jardin de la Luciole »\, glaces et gaufres de Kiki !)\nretromovies.16mm@gmail.com\nwww.retromovies-16mm.com
URL:https://larzac.org/info/un-film-un-jardin/
LOCATION:Petit musée du cinéma\, 4 rue du Faubourg Haut\, Nant\, Aveyron\, 12230\, France
CATEGORIES:Ciné
ATTACH;FMTTYPE=image/jpeg:https://larzac.org/wp-content/uploads/2025/08/petitmuseeducinema-scaled.jpg
END:VEVENT
BEGIN:VEVENT
DTSTART;TZID=Europe/Paris:20250813T203000
DTEND;TZID=Europe/Paris:20250813T203000
DTSTAMP:20260422T194628
CREATED:20250811T090324Z
LAST-MODIFIED:20250811T090324Z
UID:4526-1755117000-1755117000@larzac.org
SUMMARY:Un film\, un jardin
DESCRIPTION:Edition 2025\nFestival « Un film\, un jardin » : Un grain de folie \nChaque année au mois d’août\, du 03 au 13\, Rétro Movies propose un rêve sous les étoiles avec le cinéma de patrimoine\, des projections à l’ancienne\, des pépites du cinéma d’autrefois. Voici les dernières dates du programme de cette année\, dans le jardin des Vernèdes chez « Rétro Movies » : \nLes 9 et 10 août : « Les casse-pieds » de Jean Dréville de 1948\nLes 12 et 13 août : « Un grain de folie » de Norman Panama et Melvin Frank de 1954 \nPar ailleurs\, en 2024\, Rétro Movies a ouvert son « petit musée du cinéma et sa galerie d’Art ». Une véritable découverte de pièces rares et uniques dont du matériel de grand chef opérateur du cinéma français. \nAvis aux cinéphiles ! Entrez dans ce petit cabinet des merveilles ! Vous y découvrirez divers projecteurs d’une autre époque\, le matériel technique pour « faire » le cinéma datant des années 1800\, comme une lanterne magique\, la panoplie des stéréoscopes\, datant de 1850 pour le premier et de 1905 pour le dernier\, des bobines de films mais aussi les premières images du pré-cinéma. Avec un peu de chance\, vous verrez Olivier Salfati\, fondateur de Rétro Movies avec Christiane Milan sa compagne\, réparer ou rénover les pellicules ! \n \nUne petite nouveauté 2025 : Le petit musée du cinéma et sa galerie d’Art s’agrandit pour un espace plus chaleureux et son patio sous lequel Rétro Movies propose des projections privées en famille. Amenez vos films familiaux (super 8mm par exemple) : Olivier se charge de vous les projeter sur grand écran. Une petite bibliothèque sur le cinéma a été installée dans ce musée du patrimoine cinématographique afin de consulter les curiosités de l’histoire du cinéma sur place. Des œuvres d’Olivier et Christiane\, en rapport avec le cinéma pour la plupart\, y sont exposées car nos deux protagonistes sont aussi artistes peintres ! \nTous les jours de juin à septembre\n10h00-12h00/ 15h00-18h00 (Sur rendez-vous le reste de l’année)\nRens.et réservation pour le festival : 06.87.05.29.55 ou Galerie-Atelier 4 rue du Faubourg Haut\, Nant\nAdhésion annuelle : 10€\nParticipation aux frais : 5€\nGratuit pour les – de 12 ans\nOuverture des portes à 20h30 avec buvette participative (bières du Larzac\, jus de fruits du « Jardin de la Luciole »\, glaces et gaufres de Kiki !)\nretromovies.16mm@gmail.com\nwww.retromovies-16mm.com
URL:https://larzac.org/info/un-film-un-jardin-2/
LOCATION:Petit musée du cinéma\, 4 rue du Faubourg Haut\, Nant\, Aveyron\, 12230\, France
CATEGORIES:Ciné
ATTACH;FMTTYPE=image/jpeg:https://larzac.org/wp-content/uploads/2025/08/petitmuseeducinema-scaled.jpg
END:VEVENT
BEGIN:VEVENT
DTSTART;TZID=Europe/Paris:20250817T180000
DTEND;TZID=Europe/Paris:20250817T180000
DTSTAMP:20260422T194628
CREATED:20250806T162034Z
LAST-MODIFIED:20250816T151011Z
UID:4499-1755453600-1755453600@larzac.org
SUMMARY:Mrs Banks
DESCRIPTION:Mrs Banks raconte l’épopée d’une jeune femme itinérante se questionnant sur sa place dans le monde\, accompagnée de ses trois animaux-partenaires : un cheval\, un bouc et un loup. Tous les soirs elle trouve un campement où passer la nuit et tous les soirs avant de s’endormir elle leur raconte la même histoire. Elle profite alors de ce temps de pause qu’offre leur long périple\, pour confronter avec ses trois compagnons\, entités de sa psyché\, son désir de liberté.\n\nSpectacle tout public ~ durée 50min\n\n\n\nL’ACCUEIL\nOuverture des portes du Mas Razal\, le dimanche 17 aout à 17h 30\nBuffet partagé après le spectacle\nEmmenez ce que vous souhaitez partager avec!\nUne bio-buvette payante sera à votre disposition\n \nENTRÉE LIBRE\n\n(mais… pour seulement 5 euros (!!) vous pouvez adhérer au Mas Razal ! )
URL:https://larzac.org/info/mrs-banks/
LOCATION:Mas Razal\, Sur la route entre Montredon et Pierrefiche\, 4 minutes de route après Montredon\, un sapin sur votre droite avec boîte aux lettres et petit panneau. Prenez le chemin qui monte et cahote\, tout droit jusqu'à la petite descente vers les caravanes. Vous y êtes :-)\, LA ROQUE STE MARGUERITE\, Aveyron\, 12100\, France
CATEGORIES:musique,Spectacle
ATTACH;FMTTYPE=image/png:https://larzac.org/wp-content/uploads/2025/08/20250817masrzal.png
ORGANIZER;CN="Mas Razal":MAILTO:masrazaldularzac@gmail.com
END:VEVENT
END:VCALENDAR