BEGIN:VCALENDAR
VERSION:2.0
PRODID:-//Larzac.org - ECPv6.11.0.1//NONSGML v1.0//EN
CALSCALE:GREGORIAN
METHOD:PUBLISH
X-ORIGINAL-URL:https://larzac.org
X-WR-CALDESC:Évènements pour Larzac.org
REFRESH-INTERVAL;VALUE=DURATION:PT1H
X-Robots-Tag:noindex
X-PUBLISHED-TTL:PT1H
BEGIN:VTIMEZONE
TZID:Europe/Paris
BEGIN:DAYLIGHT
TZOFFSETFROM:+0100
TZOFFSETTO:+0200
TZNAME:CEST
DTSTART:20250330T010000
END:DAYLIGHT
BEGIN:STANDARD
TZOFFSETFROM:+0200
TZOFFSETTO:+0100
TZNAME:CET
DTSTART:20251026T010000
END:STANDARD
END:VTIMEZONE
BEGIN:VEVENT
DTSTART;TZID=Europe/Paris:20250516T203000
DTEND;TZID=Europe/Paris:20250516T220000
DTSTAMP:20260423T001050
CREATED:20250512T125149Z
LAST-MODIFIED:20250512T125219Z
UID:3594-1747427400-1747432800@larzac.org
SUMMARY:Ne me retenez pas - Marie Albert à la Blaquière
DESCRIPTION:Nous vous invitons à la sortie de résidence du spectacle\n« Ne me retenez pas »\nde Marie Albert\nVendredi 16 mai à la salle Gambajio de la Blaquière à 20h30.\n\n« La construction c’est mon dada. Parfois je construis\, parfois je déconstruis\, parfois je fais une pause. Là par exemple\, je fais une pause. En attendant\, la grande pause finale\, le pouce forever\, les grandes vacances. La pause dont le nom ne doit pas être prononcé : la mort. » Marie Albert\n« Marie est une très grande clowne\, d’une rare puissance comique. Ici elle réalise l’exploit de nous faire rire aux larmes en nous parlant de ce grand sujet qu’est la mort. » Francis Farizon\n\nSpectacle à 20h30 (ouverture des portes à 19h30)\n\n> Buvette sur place\, possibilité d’apporter de quoi grignoter\n> Participation libre et consciente\n> Réservations conseillées au 06.75.89.08.26
URL:https://larzac.org/info/ne-me-retenez-pas-marie-albert-en-sortie-de-residence-a-la-blaquiere/
LOCATION:Salle Gambajio\, La Blaquière\, Millau\, 12100\, France
CATEGORIES:Spectacle
ATTACH;FMTTYPE=image/jpeg:https://larzac.org/wp-content/uploads/2025/05/20250516petassous.jpg
END:VEVENT
BEGIN:VEVENT
DTSTART;TZID=Europe/Paris:20250530T193000
DTEND;TZID=Europe/Paris:20250530T193000
DTSTAMP:20260423T001050
CREATED:20250524T213952Z
LAST-MODIFIED:20250524T213952Z
UID:3872-1748633400-1748633400@larzac.org
SUMMARY:Concert de Natha Li
DESCRIPTION:Natha Li\, chanteuse\, poétesse et clowne bretonne est de passage en Aveyron\, elle vous donne rendez-vous le vendredi 30 mai à 20h30 à la salle Gambajio de la Blaquière.\nNatha Li chante\, écrit et improvise. Ses mots sonnent juste\, sa voix est claire\, elle nous transporte\, elle nous surprend\, elle nous questionne\, elle pète les plombs parfois\,  mais surtout\, elle nous touche !\nDepuis plus de 10 ans Natha  Li voyage chaque saison à vélo en France (et au Japon) en présentant à chacune de ses étapes un concert (ou pas)\, un spectacle de clown (ou pas) ou des stages (ou pas). Ce qui compte avant tout c’est la rencontre.  Si cette saltimbanque itinérante passe près de chez vous\, ne loupez pas le rendez-vous.\n\n\nOuverture des portes à 19h30\nParticipation libre et consciente\nBuvette sur place\nPossibilité d’apporter de quoi grignoter avant et après le concert\nRéservations au 06 75 89 08 26
URL:https://larzac.org/info/concert-de-natha-li/
LOCATION:Salle Gambajio\, La Blaquière\, Millau\, 12100\, France
CATEGORIES:musique,Spectacle
ATTACH;FMTTYPE=image/jpeg:https://larzac.org/wp-content/uploads/2025/05/20250530nathali.jpg
END:VEVENT
BEGIN:VEVENT
DTSTART;TZID=Europe/Paris:20250531T090000
DTEND;TZID=Europe/Paris:20250531T230000
DTSTAMP:20260423T001050
CREATED:20250519T110335Z
LAST-MODIFIED:20250519T110335Z
UID:3765-1748682000-1748732400@larzac.org
SUMMARY:Festival des Epouvantails
DESCRIPTION:
URL:https://larzac.org/info/festival-des-epouvantails/
LOCATION:La Blaquèrerie\, La Blaquèrerie\, La Couvertoirade\, Aveyron\, 12230\, France
CATEGORIES:animation,musique,Spectacle
ATTACH;FMTTYPE=image/jpeg:https://larzac.org/wp-content/uploads/2025/05/epouvantails2025.afffiche.jpg
END:VEVENT
BEGIN:VEVENT
DTSTART;TZID=Europe/Paris:20250531T193000
DTEND;TZID=Europe/Paris:20250531T213000
DTSTAMP:20260423T001050
CREATED:20250523T092557Z
LAST-MODIFIED:20250526T090222Z
UID:3842-1748719800-1748727000@larzac.org
SUMMARY:Ceci est mon corps
DESCRIPTION:Cie Chagall sans M\nSeule en scène\nClairière de la forêt du Mas Razal\nou Salle de spectacle en cas de pluie/froid  \n\n\n\nUne parole intime et rare dans l’espace public. Une femme veut nommer\, trouver les mots justes pour décrire l’intérieur de son corps\, ce corps objectivé et exposé\, tout au long de sa vie\, au regard des autres\, pour se le réapproprier et pour réinventer sa manière propre d’être à soi et au monde.« La comédienne Charlotte Daquet danse sur le fil épique de ce récit émancipateur où le sang alterne avec la sueur\, les larmes et la révolte. »\n\nUne femme regarde une poule\, et elle la fait parler. Et de ce que lui dit la poule\, la femme se met à revoir sa vie organique et physique ; à partir des révélations de la poule\, la pensée de la femme s’enclenche ; elle veut nommer\, trouver les mots justes pour décrire l’intérieur de son corps ; son corps exposé au regard des spécialistes : parents\, médecins\, hommes dans la rue ; son corps qu’elle va réinventer\, réinventant ainsi sa manière propre d’entrer en relation au monde.\nIl y a de la surprise dans le texte de Marie Dilasser\, on pourrait croire de la folie. Mais tout ce qui se dit ici émerge de l’expérience d’un vécu et d’un ressenti. Il n’y a pas de fard. La langue est fluide\, continue\, s’adresse à soi\, à personne et à tous.tes. Si j’écoute bien cette langue\, j’entends la mienne cachée quelque part.\nFaire le chemin de la connaissance de son propre corps\, par la parole qui s’invente en sortant d’un trop-plein\, adressée. Cette parole circulaire\, libérée du tabou\, surgissante\, inévitable\, qui se dévide dans une fugacité\, c’est la nôtre. \nA partir de 14 ans || 55 minutes \nAvec l’aide de la Région Occitanie pour la diffusion de proximité. \n———-\nPrécédé de  \n\n\n\n\n\n\n\nL.P.I.\nLaboratoire de Pure Imagination\nle samedi 31 mai à 18h15 à la Jasse à Zik\n\n\n\n\n\n\n\n\n\n\n\n\n\n\n\n\n\n\n\n\n\n\n\n\n\n\n\n\n\n\n\n\n\n\n\n\nL’ACCUEIL\n> Ouverture des portes du Mas Razal\, le samedi 31 mai à 18h Nous vous offrons une soupe de printemps\n> Emmenez ce que vous souhaitez partager avec ! Une bio-buvette payante sera à votre disposition.\n> Réservation nécessaire (surtout en cas de pluie) Confirmez-nous votre venue par texto au 06 14 40 24 83 ou par mail masrazaldularzac@gmail.com\n> P.A.F participation aux frais  : 10 euros  + 5 euros l’adhésion annuelle au Mas Razal si vous n’êtes pas déjà adhérent.e\n> Pensez à covoiturer :  point de rencontre devant la Mairie de Nant à 18h pour le concert et à 19h pour le spectacle\n\n\n\n\n\n\n\n 
URL:https://larzac.org/info/ceci-est-mon-corps/
LOCATION:Mas Razal\, Sur la route entre Montredon et Pierrefiche\, 4 minutes de route après Montredon\, un sapin sur votre droite avec boîte aux lettres et petit panneau. Prenez le chemin qui monte et cahote\, tout droit jusqu'à la petite descente vers les caravanes. Vous y êtes :-)\, LA ROQUE STE MARGUERITE\, Aveyron\, 12100\, France
CATEGORIES:Spectacle
ATTACH;FMTTYPE=image/jpeg:https://larzac.org/wp-content/uploads/2025/05/20250531masrazal.jpg
ORGANIZER;CN="Mas Razal":MAILTO:masrazaldularzac@gmail.com
END:VEVENT
END:VCALENDAR