BEGIN:VCALENDAR
VERSION:2.0
PRODID:-//Larzac.org - ECPv6.11.0.1//NONSGML v1.0//EN
CALSCALE:GREGORIAN
METHOD:PUBLISH
X-WR-CALNAME:Larzac.org
X-ORIGINAL-URL:https://larzac.org
X-WR-CALDESC:Évènements pour Larzac.org
REFRESH-INTERVAL;VALUE=DURATION:PT1H
X-Robots-Tag:noindex
X-PUBLISHED-TTL:PT1H
BEGIN:VTIMEZONE
TZID:Europe/Paris
BEGIN:DAYLIGHT
TZOFFSETFROM:+0100
TZOFFSETTO:+0200
TZNAME:CEST
DTSTART:20250330T010000
END:DAYLIGHT
BEGIN:STANDARD
TZOFFSETFROM:+0200
TZOFFSETTO:+0100
TZNAME:CET
DTSTART:20251026T010000
END:STANDARD
END:VTIMEZONE
BEGIN:VEVENT
DTSTART;TZID=Europe/Paris:20250806T180000
DTEND;TZID=Europe/Paris:20250806T180000
DTSTAMP:20260423T151548
CREATED:20250728T140340Z
LAST-MODIFIED:20250728T140506Z
UID:4433-1754503200-1754503200@larzac.org
SUMMARY:Montredon : Femmes puissantes\, terres hospitalières
DESCRIPTION:Bienvenue à Montredon le mercredi 6 août…\n \nDes agriculteurs et des producteurs locaux vous proposent : viande (agneau\, brebis\, porc\, veau)\, charcuterie\, légumes\, fromages de chèvre et de brebis\, miel\, plantes aromatiques\, fruits\, confitures\, vin\, jus de fruits\, pain\, gâteaux\, pizzas\, glaces…\nEn fin de marché\, pique-nique sur l’herbe.\nNous vous proposons de cuire vos grillades achetées sur le marché !\nPour votre confort\, pensez à apporter vos couteaux\, fourchettes\, tables\, pliants et lampes de poche !\nLa Buvette fournit des boissons élaborées localement.\nDes artisans de la région présentent leurs créations originales.\n« La brebis qui lit » : Sous la voûte séculaire de la jasse au cœur du hameau\, l’APAL (Association pour l’Aménagement du Larzac) organise une librairie depuis 2006. Vous y trouverez une sélection de livres pour adultes et enfants\, des affiches\, CD\, DVD\, cartes postales et autocollants.\nA noter : peu de stands sont équipés pour le paiement par carte bancaire. \nAu programme des animations :\nFemmes puissantes\, terres hospitalières\n \n\n\nDès 18h : signature-rencontre avec Patrick Cabanel\, historien des Cévennes\, spécialiste des minorités religieuses en France. De plus il proposera une conférence champêtre intitulée « Les nouvelles terres de refuge et la fin du désert français ?  »  \nA 21h : La Cie le plus petit espace possible propose la femme pavillon.\n3 femmes orchestre nous entrainent dans un monde doux et profond qui sent l’humus\, les océans\, la vie vivante!
URL:https://larzac.org/info/montredon-femmes-puissantes-terres-hospitalieres/
LOCATION:Montredon\, Montredon\, LA ROQUE STE MARGUERITE\, Aveyron\, 12100\, France
CATEGORIES:marché,musique
ATTACH;FMTTYPE=image/jpeg:https://larzac.org/wp-content/uploads/2025/07/cielepluspetitesppossible1.jpg
ORGANIZER;CN="Association de Montredon":MAILTO:associationdemontredon@gmail.com
END:VEVENT
BEGIN:VEVENT
DTSTART;TZID=Europe/Paris:20250807T180000
DTEND;TZID=Europe/Paris:20250807T180000
DTSTAMP:20260423T151548
CREATED:20250728T135559Z
LAST-MODIFIED:20250731T074602Z
UID:4427-1754589600-1754589600@larzac.org
SUMMARY:Marché de la Couvertoirade
DESCRIPTION:MARCHE DE PRODUCTEURS DE \n LA COUVERTOIRADE \nLe sixième marché de la saison estivale aura lieu ce jeudi 7 août sur la placette de La Couvertoirade\, au cœur de la cité templière dès 17h30. Les tables et les bancs disposés au centre du village vous accueilleront afin que vous puissiez bénéficier du cadre exceptionnel de La Couvertoirade. \nLors du marché\, vous pourrez vous restaurer sur place et faire vos courses : miel\, fromages\, légumes\, pain\, charcuterie\, etc. Tous les producteurs présents sont locaux (Larzac Aveyronnais et Larzac méridional)\, et la plupart sont en agriculture biologique. \nCe jeudi\, le marché sera animé par le groupe So Watt : un duo guitare/chant dont le répertoire se balade entre jazz et soul\, avec quelques crochets par la chanson française et la pop. \n  \n 
URL:https://larzac.org/info/marche-de-la-couvertoirade-6/
LOCATION:La Cité\, La Couvertoirade\, Aveyron\, 12230\, France
CATEGORIES:marché,musique
ATTACH;FMTTYPE=image/jpeg:https://larzac.org/wp-content/uploads/2025/06/couvertoirade.jpg
END:VEVENT
BEGIN:VEVENT
DTSTART;TZID=Europe/Paris:20250813T180000
DTEND;TZID=Europe/Paris:20250813T180000
DTSTAMP:20260423T151548
CREATED:20250728T140559Z
LAST-MODIFIED:20250804T072828Z
UID:4438-1755108000-1755108000@larzac.org
SUMMARY:Montredon : Danser pour réinventer son destin
DESCRIPTION:Bienvenue à Montredon le mercredi 13 août…\n \nDes agriculteurs et des producteurs locaux vous proposent : viande (agneau\, brebis\, porc\, veau)\, charcuterie\, légumes\, fromages de chèvre et de brebis\, miel\, plantes aromatiques\, fruits\, confitures\, vin\, jus de fruits\, pain\, gâteaux\, pizzas\, glaces…\nEn fin de marché\, pique-nique sur l’herbe.\nNous vous proposons de cuire vos grillades achetées sur le marché !\nPour votre confort\, pensez à apporter vos couteaux\, fourchettes\, tables\, pliants et lampes de poche !\nLa Buvette fournit des boissons élaborées localement.\nDes artisans de la région présentent leurs créations originales.\n« La brebis qui lit » : Sous la voûte séculaire de la jasse au cœur du hameau\, l’APAL (Association pour l’Aménagement du Larzac) organise une librairie depuis 2006. Vous y trouverez une sélection de livres pour adultes et enfants\, des affiches\, CD\, DVD\, cartes postales et autocollants.\nA noter : peu de stands sont équipés pour le paiement par carte bancaire. \nAu programme des animations : Danser pour réinventer son destin \nDès 18h signature-rencontre avec l’historien Pierre-Marie Terral. Son dernier livre « Histoire de destins hors du commun\, le jour où tout bascule »  présente 18 personnalités qui ont eu l’art de réinventer leur destin. \nA 21h : Le trio B’albrena mélangera chants occitans\, compositions poétiques et coups de cœurs d’ailleurs pour animer un bal trad\, faire chauffer les pieds et tourner les têtes !
URL:https://larzac.org/info/montredon/
LOCATION:Montredon\, Montredon\, LA ROQUE STE MARGUERITE\, Aveyron\, 12100\, France
CATEGORIES:marché,musique
ATTACH;FMTTYPE=image/jpeg:https://larzac.org/wp-content/uploads/2025/07/20250813-bal.jpg
ORGANIZER;CN="Association de Montredon":MAILTO:associationdemontredon@gmail.com
END:VEVENT
BEGIN:VEVENT
DTSTART;TZID=Europe/Paris:20250814T180000
DTEND;TZID=Europe/Paris:20250814T180000
DTSTAMP:20260423T151548
CREATED:20250804T072345Z
LAST-MODIFIED:20250804T072345Z
UID:4431-1755194400-1755194400@larzac.org
SUMMARY:Marché de la Couvertoirade
DESCRIPTION:MARCHE DE PRODUCTEURS DE \n LA COUVERTOIRADE \nLa saison estivale bat son plein à La Couvertoirade : le prochain marché nocturne aura lieu le jeudi 14 août sur la placette de La Couvertoirade\, au cœur de la cité templière dès 17h30. Les tables et les bancs disposés au centre du village vous accueilleront afin que vous puissiez bénéficier du cadre exceptionnel de La Couvertoirade. \nLors du marché\, vous pourrez vous restaurer sur place et faire vos courses : miel\, fromages\, légumes\, pain\, escargots\, charcuterie\, etc. Tous les producteurs présents sont locaux (Larzac Aveyronnais et Larzac méridional)\, et la plupart sont en agriculture biologique. \nLe marché sera animé par le duo « Ton coté sauvage » : Lucie au chant et à la percussion et Nicolas à la guitare vous enchanteront avec leur répertoire folk/rock.
URL:https://larzac.org/info/marche-de-la-couvertoirade-7/
LOCATION:La Cité\, La Couvertoirade\, Aveyron\, 12230\, France
CATEGORIES:marché,musique
ATTACH;FMTTYPE=image/jpeg:https://larzac.org/wp-content/uploads/2025/06/couvertoirade.jpg
END:VEVENT
BEGIN:VEVENT
DTSTART;TZID=Europe/Paris:20250820T180000
DTEND;TZID=Europe/Paris:20250820T180000
DTSTAMP:20260423T151548
CREATED:20250804T080033Z
LAST-MODIFIED:20250811T090921Z
UID:4492-1755712800-1755712800@larzac.org
SUMMARY:Montredon : Vieilles pierres et militants modernes
DESCRIPTION:Bienvenue à Montredon le mercredi 20 août…\n \nDes agriculteurs et des producteurs locaux vous proposent : viande (agneau\, brebis\, porc\, veau)\, charcuterie\, légumes\, fromages de chèvre et de brebis\, miel\, plantes aromatiques\, fruits\, confitures\, vin\, jus de fruits\, pain\, gâteaux\, pizzas\, glaces…\nEn fin de marché\, pique-nique sur l’herbe.\nNous vous proposons de cuire vos grillades achetées sur le marché !\nPour votre confort\, pensez à apporter vos couteaux\, fourchettes\, tables\, pliants et lampes de poche !\nLa Buvette fournit des boissons élaborées localement.\nDes artisans de la région présentent leurs créations originales.\n« La brebis qui lit » : Sous la voûte séculaire de la jasse au cœur du hameau\, l’APAL (Association pour l’Aménagement du Larzac) organise une librairie depuis 2006. Vous y trouverez une sélection de livres pour adultes et enfants\, des affiches\, CD\, DVD\, cartes postales et autocollants.\nA noter : peu de stands sont équipés pour le paiement par carte bancaire. \nAu programme des animations : Vieilles pierres et militants modernes \nDès 18h signature-rencontre avec Françoise Galès\, historienne de l’art et archéologue du bâti\, pour son livre « Les cités templières et hospitalières du Larzac« .  \nVenez fêter avec nous les 50 ans de Gardarem Lo Larzac\, notre journal bimestriel engagé ! \nA 21h : Nos lèvres révoltées : choeur féministe et militant qui chante en mixité choisie pour défendre un matrimoine musical.
URL:https://larzac.org/info/montredon-vieilles-pierres-et-militants-modernes/
LOCATION:Montredon\, Montredon\, LA ROQUE STE MARGUERITE\, Aveyron\, 12100\, France
CATEGORIES:marché,musique
ATTACH;FMTTYPE=image/jpeg:https://larzac.org/wp-content/uploads/2025/08/nosvoixrevlotes.jpg
ORGANIZER;CN="Association de Montredon":MAILTO:associationdemontredon@gmail.com
END:VEVENT
BEGIN:VEVENT
DTSTART;TZID=Europe/Paris:20250821T180000
DTEND;TZID=Europe/Paris:20250821T180000
DTSTAMP:20260423T151548
CREATED:20250804T073545Z
LAST-MODIFIED:20250818T073434Z
UID:4485-1755799200-1755799200@larzac.org
SUMMARY:Marché de la Couvertoirade
DESCRIPTION:MARCHE DE PRODUCTEURS DE \n LA COUVERTOIRADE \nJeudi 21 août\, à 18h\, vous pourrez assister à une démonstration de dressage de chiens de troupeau avec Etienne Serclérat. Sur le parcours situé à coté de la lavogne\, Etienne et ses chiens vous feront partager leur complicité\, maître et chiens œuvrant ensemble pour diriger parfaitement les oies et les canards ! \nPour poursuivre la soirée\, Etienne\, accompagné de ses chiens et des ses oies\, vous conduira au marché de producteurs de La Couvertoirade. Depuis maintenant une douzaine d’années des producteurs locaux se retrouvent tous les jeudis soirs de juillet et août à La Couvertoirade pour vous proposer leurs produits : légumes\, miel\, grillades\, escargots\, fromages et boissons ! Vous trouverez tout ce dont vous avez besoin ! \n  \n 
URL:https://larzac.org/info/marche-de-la-couvertoirade-8/
LOCATION:La Cité\, La Couvertoirade\, Aveyron\, 12230\, France
CATEGORIES:marché
ATTACH;FMTTYPE=image/jpeg:https://larzac.org/wp-content/uploads/2025/06/couvertoirade.jpg
END:VEVENT
BEGIN:VEVENT
DTSTART;TZID=Europe/Paris:20250827T180000
DTEND;TZID=Europe/Paris:20250827T180000
DTSTAMP:20260423T151548
CREATED:20250818T073311Z
LAST-MODIFIED:20250818T073311Z
UID:4548-1756317600-1756317600@larzac.org
SUMMARY:Montredon : Révolutionnaire\, agraire\, imaginaire
DESCRIPTION:Bienvenue à Montredon le mercredi 27 août…\n \nDes agriculteurs et des producteurs locaux vous proposent : viande (agneau\, brebis\, porc\, veau)\, charcuterie\, légumes\, fromages de chèvre et de brebis\, miel\, plantes aromatiques\, fruits\, confitures\, vin\, jus de fruits\, pain\, gâteaux\, pizzas\, glaces…\nEn fin de marché\, pique-nique sur l’herbe.\nNous vous proposons de cuire vos grillades achetées sur le marché !\nPour votre confort\, pensez à apporter vos couteaux\, fourchettes\, tables\, pliants et lampes de poche !\nLa Buvette fournit des boissons élaborées localement.\nDes artisans de la région présentent leurs créations originales.\n« La brebis qui lit » : Sous la voûte séculaire de la jasse au cœur du hameau\, l’APAL (Association pour l’Aménagement du Larzac) organise une librairie depuis 2006. Vous y trouverez une sélection de livres pour adultes et enfants\, des affiches\, CD\, DVD\, cartes postales et autocollants.\nA noter : peu de stands sont équipés pour le paiement par carte bancaire. \nAu programme des animations :\nRévolutionnaire\, agraire\, imaginaire \nDès 18h deux signature-rencontre avec Babika\, dessinateur de presse et auteur d’Antoinette\, qui fait revivre en BD « la citoyenne Sorgue »\, féministe révolutionnaire aveyronnaise (1864-1924) et\navec Camille Albaret et René Pierrot\, pour leur guide pratique de jardinage en roman-photo Les demains dans la terre. \nA 21h : Paroles de cordes : Contes et chansons. Manolo tisse histoires et mélodies et laisse parler les cordes pour un moment simple d’émotions et d’imaginaire.    
URL:https://larzac.org/info/montredon-revolutionnaire-agraire-imaginaire/
LOCATION:Montredon\, Montredon\, LA ROQUE STE MARGUERITE\, Aveyron\, 12100\, France
CATEGORIES:marché,musique
ATTACH;FMTTYPE=image/jpeg:https://larzac.org/wp-content/uploads/2025/08/manolo.jpg
ORGANIZER;CN="Association de Montredon":MAILTO:associationdemontredon@gmail.com
END:VEVENT
BEGIN:VEVENT
DTSTART;TZID=Europe/Paris:20250828T173000
DTEND;TZID=Europe/Paris:20250828T173000
DTSTAMP:20260423T151548
CREATED:20250804T075358Z
LAST-MODIFIED:20250818T073520Z
UID:4495-1756402200-1756402200@larzac.org
SUMMARY:Marché de la Couvertoirade
DESCRIPTION:MARCHE DE PRODUCTEURS DE \n LA COUVERTOIRADE \nJeudi 28 août\, à 18h\, le marché de producteurs de La Couvertoirade vous accueille. Depuis maintenant une douzaine d’années des producteurs locaux se retrouvent tous les jeudis soirs de juillet et août à La Couvertoirade pour vous proposer leurs produits : légumes\, miel\, grillades\, escargots\, fromages et boissons ! Vous trouverez tout ce dont vous avez besoin ! \nCe jeudi\, la soirée sera animée par Jade et son accordéon : chansons humoristiques\, entrainantes ou attendrissantes. \n  \n 
URL:https://larzac.org/info/marche-de-la-couvertoirade-9/
LOCATION:La Cité\, La Couvertoirade\, Aveyron\, 12230\, France
CATEGORIES:marché,musique
ATTACH;FMTTYPE=image/jpeg:https://larzac.org/wp-content/uploads/2025/06/couvertoirade.jpg
END:VEVENT
END:VCALENDAR