BEGIN:VCALENDAR
VERSION:2.0
PRODID:-//Larzac.org - ECPv6.11.0.1//NONSGML v1.0//EN
CALSCALE:GREGORIAN
METHOD:PUBLISH
X-WR-CALNAME:Larzac.org
X-ORIGINAL-URL:https://larzac.org
X-WR-CALDESC:Évènements pour Larzac.org
REFRESH-INTERVAL;VALUE=DURATION:PT1H
X-Robots-Tag:noindex
X-PUBLISHED-TTL:PT1H
BEGIN:VTIMEZONE
TZID:Europe/Paris
BEGIN:DAYLIGHT
TZOFFSETFROM:+0100
TZOFFSETTO:+0200
TZNAME:CEST
DTSTART:20250330T010000
END:DAYLIGHT
BEGIN:STANDARD
TZOFFSETFROM:+0200
TZOFFSETTO:+0100
TZNAME:CET
DTSTART:20251026T010000
END:STANDARD
END:VTIMEZONE
BEGIN:VEVENT
DTSTART;VALUE=DATE:20250518
DTEND;VALUE=DATE:20250519
DTSTAMP:20260423T194725
CREATED:20250513T101858Z
LAST-MODIFIED:20250517T081841Z
UID:3622-1747526400-1747612799@larzac.org
SUMMARY:Gaz'Bartas
DESCRIPTION:Course Gaz Bartas\n\nLa course a lieu ce dimanche 18 mai\, départ du Jas du Camper.Il y a un 10km (trail ou rando) et un 21km suivi d’un marché de producteurs locaux. Seront présents le GAEC de Persegol (Mas de Bru) pour le pain\, le pâté et des sandwichs chauds à l’agneau\, le GAEC du Bourg d’Hirondel avec des burgers et tacos\, la Talvera avec ses délicieuses glaces\, et la Brasserie du Larzac pour la bière à l’arrivée ! Tout en Bio !\n\n\nC’est une course solidaire (5€ par dossard sont reversés à des associations de Millau – Centres Sociaux\, Trait d’union\, etc.) \nPour prendre un dossard\, c’est par ici : www.gazelles-millau.com
URL:https://larzac.org/info/gaz-bartas/
LOCATION:Potensac\, Potensac\, Millau\, 12100
CATEGORIES:Course à pied,marché
ATTACH;FMTTYPE=image/jpeg:https://larzac.org/wp-content/uploads/2025/05/2025-05-18-gasbartaz.jpg
END:VEVENT
END:VCALENDAR