BEGIN:VCALENDAR
VERSION:2.0
PRODID:-//Larzac.org - ECPv6.11.0.1//NONSGML v1.0//EN
CALSCALE:GREGORIAN
METHOD:PUBLISH
X-ORIGINAL-URL:https://larzac.org
X-WR-CALDESC:Évènements pour Larzac.org
REFRESH-INTERVAL;VALUE=DURATION:PT1H
X-Robots-Tag:noindex
X-PUBLISHED-TTL:PT1H
BEGIN:VTIMEZONE
TZID:Europe/Paris
BEGIN:DAYLIGHT
TZOFFSETFROM:+0100
TZOFFSETTO:+0200
TZNAME:CEST
DTSTART:20250330T010000
END:DAYLIGHT
BEGIN:STANDARD
TZOFFSETFROM:+0200
TZOFFSETTO:+0100
TZNAME:CET
DTSTART:20251026T010000
END:STANDARD
END:VTIMEZONE
BEGIN:VEVENT
DTSTART;VALUE=DATE:20250813
DTEND;VALUE=DATE:20250814
DTSTAMP:20260423T133557
CREATED:20250710T105451Z
LAST-MODIFIED:20250710T105451Z
UID:4326-1755043200-1755129599@larzac.org
SUMMARY:Expo : Consumé par la lumière
DESCRIPTION:Exposition du 19 juillet au 13 août \nAteliers gratuits le 22 juillet et le 13 août suivi de la présentation du travail des artistes. \nHeure à confirmer avec le lieu. \nVernissage de clôture le 13 août
URL:https://larzac.org/info/expo-consume-par-la-lumiere-2/
LOCATION:Ateliers de la Scierie\, route de Saint Beaulize\, Fondamente\, Aveyron\, 12540\, France
CATEGORIES:exposition
ATTACH;FMTTYPE=image/jpeg:https://larzac.org/wp-content/uploads/2025/07/2025-07-ateliers.jpg
ORGANIZER;CN="Ateliers de la Scierie":MAILTO:ateliersdelascierie@orange.fr
END:VEVENT
END:VCALENDAR