BEGIN:VCALENDAR
VERSION:2.0
PRODID:-//Larzac.org - ECPv6.11.0.1//NONSGML v1.0//EN
CALSCALE:GREGORIAN
METHOD:PUBLISH
X-WR-CALNAME:Larzac.org
X-ORIGINAL-URL:https://larzac.org
X-WR-CALDESC:Évènements pour Larzac.org
REFRESH-INTERVAL;VALUE=DURATION:PT1H
X-Robots-Tag:noindex
X-PUBLISHED-TTL:PT1H
BEGIN:VTIMEZONE
TZID:Europe/Paris
BEGIN:DAYLIGHT
TZOFFSETFROM:+0100
TZOFFSETTO:+0200
TZNAME:CEST
DTSTART:20250330T010000
END:DAYLIGHT
BEGIN:STANDARD
TZOFFSETFROM:+0200
TZOFFSETTO:+0100
TZNAME:CET
DTSTART:20251026T010000
END:STANDARD
END:VTIMEZONE
BEGIN:VEVENT
DTSTART;TZID=Europe/Paris:20250705T180000
DTEND;TZID=Europe/Paris:20250705T180000
DTSTAMP:20260423T152059
CREATED:20250528T155432Z
LAST-MODIFIED:20250622T163859Z
UID:3931-1751738400-1751738400@larzac.org
SUMMARY:Vernissage Anne-Marie Letort
DESCRIPTION:Hommage aux gestes premiers \nLes cerfs\, les lions\, les bisons\, les rhinocéros vivent à jamais\, galopant sur les parois des grottes. Les mains positives et les mains négatives les guident jusqu’à nous\, dans la nuit des temps. « Les artistes préhistoriques ont tout inventé » disait Marc Stockman\, l’ami peintre\, le mentor\, le maître d’Anne-Marie. Comme les enfants\, qui eux aussi créent ou recréent à chaque fois le monde : « Cette exposition ce n’est pas une représentation de la préhistoire\, souligne Anne-Marie. C’est une prière. Je rejoins la source« . Partons pour ce voyage avec elle. \nCe voyage\, nous le ferons ensemble\nle 5 juillet prochain. \nJe vous invite à découvrir\nma surprenante exposition\nà partir de 18 heures.  \nExposition ouverte du 5 juillet au 14 septembre 2025.  \nComme chaque année\, nous apporterons tous de quoi manger\, boire\, raconter\, chanter. \nJe vous dis à bientôt. \n \n  \n 
URL:https://larzac.org/info/vernissage-hommage-aux-gestes-premiers/
LOCATION:La Combe\, La Combe\, Sauclières\, Aveyron\, 12230\, France
CATEGORIES:exposition
ATTACH;FMTTYPE=image/jpeg:https://larzac.org/wp-content/uploads/2025/05/20250705amletort.jpg
END:VEVENT
BEGIN:VEVENT
DTSTART;TZID=Europe/Paris:20250720T160000
DTEND;TZID=Europe/Paris:20250720T160000
DTSTAMP:20260423T152059
CREATED:20250710T105228Z
LAST-MODIFIED:20250710T105228Z
UID:4320-1753027200-1753027200@larzac.org
SUMMARY:Expo : Consumé par la lumière
DESCRIPTION:Exposition du 19 juillet au 13 août \nVernissage le dimanche 20 juillet à 16h avec le trio « de longue Haleine »\, création musicale contemporaine.  \nAteliers gratuits le 22 juillet et le 13 août suivi de la présentation du travail des artistes. \n 
URL:https://larzac.org/info/expo-consume-par-la-lumiere/
LOCATION:Ateliers de la Scierie\, route de Saint Beaulize\, Fondamente\, Aveyron\, 12540\, France
CATEGORIES:exposition,musique
ATTACH;FMTTYPE=image/jpeg:https://larzac.org/wp-content/uploads/2025/07/2025-07-ateliers.jpg
ORGANIZER;CN="Ateliers de la Scierie":MAILTO:ateliersdelascierie@orange.fr
END:VEVENT
BEGIN:VEVENT
DTSTART;VALUE=DATE:20250722
DTEND;VALUE=DATE:20250723
DTSTAMP:20260423T152059
CREATED:20250710T105341Z
LAST-MODIFIED:20250710T105341Z
UID:4324-1753142400-1753228799@larzac.org
SUMMARY:Atelier : Consumé par la lumière
DESCRIPTION:Exposition du 19 juillet au 13 août \nAteliers gratuits le 22 juillet et le 13 août suivi de la présentation du travail des artistes. \nHeure à confirmer avec le lieu.
URL:https://larzac.org/info/atelier-consume-par-la-lumiere/
LOCATION:Ateliers de la Scierie\, route de Saint Beaulize\, Fondamente\, Aveyron\, 12540\, France
CATEGORIES:exposition
ATTACH;FMTTYPE=image/jpeg:https://larzac.org/wp-content/uploads/2025/07/2025-07-ateliers.jpg
ORGANIZER;CN="Ateliers de la Scierie":MAILTO:ateliersdelascierie@orange.fr
END:VEVENT
BEGIN:VEVENT
DTSTART;VALUE=DATE:20250724
DTEND;VALUE=DATE:20250728
DTSTAMP:20260423T152059
CREATED:20250715T090511Z
LAST-MODIFIED:20250715T090511Z
UID:4355-1753315200-1753660799@larzac.org
SUMMARY:Festival du Roc Castel
DESCRIPTION:Festival du Roc Castel – L’Éloge du Voyage lent\ndu jeudi 24 au dimanche 27 juillet \nInauguration le jeudi 24 à 19 h sur la place du village \nTous les détails sur le site https://festival-roc-castel.eu/   \nCe festival est à PARTICIPATION LIBRE \n \nLe programme détaillé en pdf ici
URL:https://larzac.org/info/festival-du-roc-castel/
LOCATION:Le Caylar\, Village\, Le Caylar\, Hérault\, 34520\, France
CATEGORIES:animation,Conférence,Débat,exposition,musique,Spectacle
ATTACH;FMTTYPE=image/jpeg:https://larzac.org/wp-content/uploads/2025/07/20250724castel.jpg
ORGANIZER;CN="Larzac Village d'Europe":MAILTO:eurolarzac@wanadoo.fr
END:VEVENT
BEGIN:VEVENT
DTSTART;TZID=Europe/Paris:20250726T183000
DTEND;TZID=Europe/Paris:20250726T183000
DTSTAMP:20260423T152059
CREATED:20250704T091554Z
LAST-MODIFIED:20250711T084354Z
UID:4271-1753554600-1753554600@larzac.org
SUMMARY:"Parmi toutes celles..."
DESCRIPTION:Anne-Marie Letort vous invite à une lecture théâtralisée de \nParmi toutes celles\nou la petite guitare \nLecture de 40 minutes\, adaptée du texte du même titre de Lise Andrea\, portant sur les abus et les violences faites aux femmes et aux enfants.
URL:https://larzac.org/info/parmi-toutes-celles/
LOCATION:La Combe\, La Combe\, Sauclières\, Aveyron\, 12230\, France
CATEGORIES:exposition,Spectacle
ATTACH;FMTTYPE=image/jpeg:https://larzac.org/wp-content/uploads/2025/07/20250726am.jpg
END:VEVENT
END:VCALENDAR