BEGIN:VCALENDAR
VERSION:2.0
PRODID:-//Larzac.org - ECPv6.11.0.1//NONSGML v1.0//EN
CALSCALE:GREGORIAN
METHOD:PUBLISH
X-ORIGINAL-URL:https://larzac.org
X-WR-CALDESC:Évènements pour Larzac.org
REFRESH-INTERVAL;VALUE=DURATION:PT1H
X-Robots-Tag:noindex
X-PUBLISHED-TTL:PT1H
BEGIN:VTIMEZONE
TZID:Europe/Paris
BEGIN:DAYLIGHT
TZOFFSETFROM:+0100
TZOFFSETTO:+0200
TZNAME:CEST
DTSTART:20250330T010000
END:DAYLIGHT
BEGIN:STANDARD
TZOFFSETFROM:+0200
TZOFFSETTO:+0100
TZNAME:CET
DTSTART:20251026T010000
END:STANDARD
END:VTIMEZONE
BEGIN:VEVENT
DTSTART;TZID=Europe/Paris:20250607T140000
DTEND;TZID=Europe/Paris:20250607T230000
DTSTAMP:20260423T164943
CREATED:20250519T110003Z
LAST-MODIFIED:20250519T110003Z
UID:3751-1749304800-1749337200@larzac.org
SUMMARY:Fèsta de la Cardabèla
DESCRIPTION:> 14 heures : BALADE COMMENTÉE BILINGUE\navec Josiane UBAUD\, ethnobotaniste\n● les paysages de Sorbs\n● la restitution de son travail avec les habitants de Sorbs sur la toponymie et la botanique locale\n● la présentation floristique et populaire de la Cardabèla\nou VISITE d’une FERME\nSur réservation pour ces 2 activités au : 06 84 01 49 35 avant le 5 juin 2025 (Nombre de personnes limité) \n> 17 heures : SPECTACLE d’ENFANTS\nautour de 2 emblèmes du LARZAC (la cardabèla et la brebis) des enfants volontaires de 4 écoles du plateau du Larzac (Le CAYLAR\, les RIVES\, Saint MAURICE NAVACELLES\, l’HOSPITALET du LARZAC) \n> 18h30 : SPECTACLE CONTE BILINGUE\npar Malika VERLAGUET \n> 21 heures : BALÈTI avec le groupe CASTANHA E VINOVÈL \net aussi : des STANDS et des EXPOS\, des PRODUCTEURS LOCAUX (‘foodtrucks’) et une BUVETTE pour pouvoir se restaurer et se désaltérer.\nANIMATIONS GRATUITES (à l’exception de la restauration et buvette)
URL:https://larzac.org/info/festa-de-la-cardabela/
LOCATION:Sorbs\, Sorbs\, Sorbs\, Hérault\, 34520\, France
CATEGORIES:animation,exposition,marché,musique,Spectacle
ATTACH;FMTTYPE=image/jpeg:https://larzac.org/wp-content/uploads/2025/05/20250607sorbs.jpg
END:VEVENT
BEGIN:VEVENT
DTSTART;TZID=Europe/Paris:20250607T160000
DTEND;TZID=Europe/Paris:20250607T180000
DTSTAMP:20260423T164943
CREATED:20250521T183536Z
LAST-MODIFIED:20250522T150239Z
UID:3800-1749312000-1749319200@larzac.org
SUMMARY:Visite guidée d'exposition - Elisabeth Baillon
DESCRIPTION:Exposition des livres brodés d’Elisabeth Baillon\nDu 23 mai au 25 juin 2025 à la Médiathèque du Sud-Aveyron \nL’artiste Elisabeth Baillon brode ses œuvres d’art\, elle explore des techniques mixtes associant broderies de laine\, dessins à la plume\, collages et nous invite à des rêveries sans cesse renouvelées.\nSon arrivée sur le Larzac au début des années 70 marque un tournant dans son travail artistique qui sera désormais profondément imprégné de ses rencontres émotionnelles avec les paysages\, les habitants et la lutte collective pour les défendre. Son langage artistique\, libre et poétique est aussi animé par un souffle littéraire. Ses écrits sur la peau ou la terre du Larzac témoignent autant de son attachement aux grands causses que de son goût pour la langue. L’art du « parlé méridional »\, la philosophie et la poésie\, la puissance de la langue occitane l’inspirent et nourrissent son travail artistique. C’est donc tout  naturellement à la confluence du verbe et des arts plastiques qu’Elisabeth Baillon invente aujourd’hui ses livres brodés. Ces magnifiques Leporellos nous offrent à lire les mots de René Char\, Max Rouquette\, Paul Eluard\, Jean Giono\, Louise Labé et tant d’autre. Ces livres brodés\, livres d’artistes hommages à la poésie\, à la terre\, au feu créateur et à l’amour sont à découvrir à la médiathèque jusqu’au 25 juin. \nSamedi 7 et 14 juin 2025 : Visites guidées avec l’artiste.\nGratuit sur inscription (mesa@millau.fr /0565611719)
URL:https://larzac.org/info/visite-guidee-dexposition-elisabeth-baillon/
LOCATION:Médiathèque de Millau\, MESA\, Millau\, Aveyron\, 12100\, France
CATEGORIES:exposition
ATTACH;FMTTYPE=image/jpeg:https://larzac.org/wp-content/uploads/2025/05/20250523ebaillon.jpg
END:VEVENT
BEGIN:VEVENT
DTSTART;VALUE=DATE:20250614
DTEND;VALUE=DATE:20250616
DTSTAMP:20260423T164943
CREATED:20250610T115435Z
LAST-MODIFIED:20250610T121604Z
UID:4081-1749859200-1750031999@larzac.org
SUMMARY:Gestes\, mouvements\, souffles - Eve Line
DESCRIPTION:Exposition\, ateliers\, lecture et projections\n \nDu 14 juin 19h au 23 juin dans la salle de pratique\nEXPOSITION Assemblages et encres grasses sur transparents Photographies et photogrammes de films (l’artiste sera présente le samedi et dimanche)\n\n  _______________\n\n\n\nSamedi 14 juin\n– 14h à 16h30 ATELIER ASSEMBLAGES art plastique\, tout public\, participation entre 20 à 30 euros personne ou famille\n– 17h-18h LECTURE COLLECTIVE de textes choisis de Audre Lorde animé par lucile Combreau\n– 20h PROJECTION du film JAMAIS VAINCUES\nCe film témoigne d’une expérience de pratique du Kinomichi\, un art martial émergeant de l’Aïkido à l’hôpital Saint-Antoine\, AP-HP\, à Paris\, auprès de personnes\, dont certaines ont été confrontées à des situations de violence (physique\, morale\, psychique\, verbale). Des relations intenses se tissent entre les pratiquant.e.s provenant d’horizons sociaux très différents\, et avec leur enseignante\, Odyle Noro-Tavel. Super 8 et 16mm/diffusion numérique/2023 échanges avec la réalisatrice\nsuivi de films de danse expérimentaux de Maya deren\n\net d’une JAM si le cœur et le corps sont là : entrée libre\n\n  _______________\n\n\n\nDimanche 15 juin \n10h à 11h30 ATELIER MOUVEMENT avec Eve line pratiquante de Kinomichi : participation libre\n\n\n\nPour découvrir le travail de Eve Line\nhttps://www.eve-line.fr/\n\n\n\n\npossibilité de dormir sur place à LA CHALEURUMAINE / 12 euros la nuit et de manger le samedi soir à la chapelle café\nréservations et infos anne 07.68.58.94.72\nhttp://www.annemutuel.com/anne-mutuel/chaleur/
URL:https://larzac.org/info/gestes-mouvements-souffles-eve-line/
LOCATION:chaleurhumaine\, Mas Raynal\, cornus\, aveyron\, 12540\, France
CATEGORIES:exposition,Spectacle,stage
ATTACH;FMTTYPE=image/jpeg:https://larzac.org/wp-content/uploads/2025/06/20250614cc.jpg
END:VEVENT
BEGIN:VEVENT
DTSTART;TZID=Europe/Paris:20250614T160000
DTEND;TZID=Europe/Paris:20250614T180000
DTSTAMP:20260423T164943
CREATED:20250523T071128Z
LAST-MODIFIED:20250603T133928Z
UID:3840-1749916800-1749924000@larzac.org
SUMMARY:Visite guidée d'exposition - Elisabeth Baillon
DESCRIPTION:Exposition des livres brodés d’Elisabeth Baillon\nDu 23 mai au 25 juin 2025 à la Médiathèque du Sud-Aveyron \nL’artiste Elisabeth Baillon brode ses œuvres d’art\, elle explore des techniques mixtes associant broderies de laine\, dessins à la plume\, collages et nous invite à des rêveries sans cesse renouvelées.\nSon arrivée sur le Larzac au début des années 70 marque un tournant dans son travail artistique qui sera désormais profondément imprégné de ses rencontres émotionnelles avec les paysages\, les habitants et la lutte collective pour les défendre. Son langage artistique\, libre et poétique est aussi animé par un souffle littéraire. Ses écrits sur la peau ou la terre du Larzac témoignent autant de son attachement aux grands causses que de son goût pour la langue. L’art du « parlé méridional »\, la philosophie et la poésie\, la puissance de la langue occitane l’inspirent et nourrissent son travail artistique. C’est donc tout  naturellement à la confluence du verbe et des arts plastiques qu’Elisabeth Baillon invente aujourd’hui ses livres brodés. Ces magnifiques Leporellos nous offrent à lire les mots de René Char\, Max Rouquette\, Paul Eluard\, Jean Giono\, Louise Labé et tant d’autre. Ces livres brodés\, livres d’artistes hommages à la poésie\, à la terre\, au feu créateur et à l’amour sont à découvrir à la médiathèque jusqu’au 25 juin. \nSamedi 7 et 14 juin 2025 : Visites guidées avec l’artiste.\nGratuit sur inscription (mesa@millau.fr /0565611719)
URL:https://larzac.org/info/visite-guidee-dexposition-elisabeth-baillon-2/
LOCATION:Médiathèque de Millau\, MESA\, Millau\, Aveyron\, 12100\, France
CATEGORIES:exposition
ATTACH;FMTTYPE=image/jpeg:https://larzac.org/wp-content/uploads/2025/05/20250523ebaillon.jpg
END:VEVENT
END:VCALENDAR