BEGIN:VCALENDAR
VERSION:2.0
PRODID:-//Larzac.org - ECPv6.11.0.1//NONSGML v1.0//EN
CALSCALE:GREGORIAN
METHOD:PUBLISH
X-WR-CALNAME:Larzac.org
X-ORIGINAL-URL:https://larzac.org
X-WR-CALDESC:Évènements pour Larzac.org
REFRESH-INTERVAL;VALUE=DURATION:PT1H
X-Robots-Tag:noindex
X-PUBLISHED-TTL:PT1H
BEGIN:VTIMEZONE
TZID:Europe/Paris
BEGIN:DAYLIGHT
TZOFFSETFROM:+0100
TZOFFSETTO:+0200
TZNAME:CEST
DTSTART:20250330T010000
END:DAYLIGHT
BEGIN:STANDARD
TZOFFSETFROM:+0200
TZOFFSETTO:+0100
TZNAME:CET
DTSTART:20251026T010000
END:STANDARD
END:VTIMEZONE
BEGIN:VEVENT
DTSTART;TZID=Europe/Paris:20250408T100000
DTEND;TZID=Europe/Paris:20250419T170000
DTSTAMP:20260423T194540
CREATED:20250407T152938Z
LAST-MODIFIED:20250407T152938Z
UID:3383-1744106400-1745082000@larzac.org
SUMMARY:Palestine : de l’expulsion à l’apartheid
DESCRIPTION:Le collectif Palestine propose une exposition à la salle Constantini\, Place Foch à Millau :\nPalestine : de l’expulsion à l’apartheid\nEt maintenant\, sous nos yeux\,\nAu « risque de » génocide \nDu mardi 8 avril au samedi 19 avril 2025\nDe 10h à 12h30 et de 14h 30 à 17h sauf les lundis \n13 panneaux racontent l’histoire de la Palestine à partir du début du XXe siècle. \nLe projet sioniste\, l’immigration juive avant 1948\, la Nakba\, les réfugiés\, l’expansion territoriale d’Israël\, la colonisation et l’apartheid. L’application du droit et la résistance jusqu’à aujourd’hui. \nUne présentation de l’exposition par le collectif est prévue le samedi 12 avril à 11h30 à la suite du rassemblement.
URL:https://larzac.org/info/palestine-de-lexpulsion-a-lapartheid/
LOCATION:Salle Costantini Millau\, Place Foch\, Millau\, Aveyron\, 12100\, France
CATEGORIES:exposition
ATTACH;FMTTYPE=image/jpeg:https://larzac.org/wp-content/uploads/2025/04/gaza-apatheid.jpg
END:VEVENT
END:VCALENDAR