BEGIN:VCALENDAR
VERSION:2.0
PRODID:-//Larzac.org - ECPv6.11.0.1//NONSGML v1.0//EN
CALSCALE:GREGORIAN
METHOD:PUBLISH
X-ORIGINAL-URL:https://larzac.org
X-WR-CALDESC:Évènements pour Larzac.org
REFRESH-INTERVAL;VALUE=DURATION:PT1H
X-Robots-Tag:noindex
X-PUBLISHED-TTL:PT1H
BEGIN:VTIMEZONE
TZID:Europe/Paris
BEGIN:DAYLIGHT
TZOFFSETFROM:+0100
TZOFFSETTO:+0200
TZNAME:CEST
DTSTART:20260329T010000
END:DAYLIGHT
BEGIN:STANDARD
TZOFFSETFROM:+0200
TZOFFSETTO:+0100
TZNAME:CET
DTSTART:20261025T010000
END:STANDARD
END:VTIMEZONE
BEGIN:VEVENT
DTSTART;TZID=Europe/Paris:20260428T200000
DTEND;TZID=Europe/Paris:20260428T200000
DTSTAMP:20260420T091010
CREATED:20260416T095750Z
LAST-MODIFIED:20260416T095750Z
UID:5312-1777406400-1777406400@larzac.org
SUMMARY:Conférence-débat avec Ludivine Bantigny
DESCRIPTION:A l’initiative d’adhérent.es Attac du Sud-Aveyron\, une conférence-débat se tiendra jeudi 28 avril à 20h00 à la Maison de la Région (Place de la Capelle) à Millau \, avec Ludivine Bantigny\, historienne\, autrice de nombreux ouvrages sur l’extrême droite\, le mouvement ouvrier\, féministe … 
URL:https://larzac.org/info/conference-debat-avec-ludivine-bantigny/
LOCATION:Maison de la Région\, place de la Capelle\, Millau\, Aveyron\, 12100\, France
CATEGORIES:Conférence,Débat
END:VEVENT
END:VCALENDAR